BEGIN:VCALENDAR
VERSION:2.0
PRODID:-//Rhode Island Business Networking - ECPv6.15.20//NONSGML v1.0//EN
CALSCALE:GREGORIAN
METHOD:PUBLISH
X-ORIGINAL-URL:https://www.rinetworking.com
X-WR-CALDESC:Events for Rhode Island Business Networking
REFRESH-INTERVAL;VALUE=DURATION:PT1H
X-Robots-Tag:noindex
X-PUBLISHED-TTL:PT1H
BEGIN:VTIMEZONE
TZID:America/New_York
BEGIN:DAYLIGHT
TZOFFSETFROM:-0500
TZOFFSETTO:-0400
TZNAME:EDT
DTSTART:20230312T070000
END:DAYLIGHT
BEGIN:STANDARD
TZOFFSETFROM:-0400
TZOFFSETTO:-0500
TZNAME:EST
DTSTART:20231105T060000
END:STANDARD
BEGIN:DAYLIGHT
TZOFFSETFROM:-0500
TZOFFSETTO:-0400
TZNAME:EDT
DTSTART:20240310T070000
END:DAYLIGHT
BEGIN:STANDARD
TZOFFSETFROM:-0400
TZOFFSETTO:-0500
TZNAME:EST
DTSTART:20241103T060000
END:STANDARD
BEGIN:DAYLIGHT
TZOFFSETFROM:-0500
TZOFFSETTO:-0400
TZNAME:EDT
DTSTART:20250309T070000
END:DAYLIGHT
BEGIN:STANDARD
TZOFFSETFROM:-0400
TZOFFSETTO:-0500
TZNAME:EST
DTSTART:20251102T060000
END:STANDARD
END:VTIMEZONE
BEGIN:VEVENT
DTSTART;TZID=America/New_York:20241023T170000
DTEND;TZID=America/New_York:20241023T210000
DTSTAMP:20260424T172220
CREATED:20240928T005158Z
LAST-MODIFIED:20240928T005158Z
UID:10000171-1729702800-1729717200@www.rinetworking.com
SUMMARY:October 23rd\, Meta Mastery-Reels Edition Class & Networking Event!
DESCRIPTION:Part of the Monthly Real Estate Networking Events. collection\n\n\n\n\nJoin us on Oct. 23rd for a fun and interactive Meta Mastery-Reels Edition Class & Networking Event – sharpen your skills\, meet new people. \n\nDate and time\n\n\n \n\n\nWednesday\, October 23 · 5 – 9pm EDT. Doors at 4:45pm\n\n\n\nLocation\n\n\n\nVarsity Luxury Sports Bar – 289 Atwells Ave. Providence RI. \n289 Atwells Avenue Providence\, RI 02903 United States \n\n\n\n\nRefund Policy\n\nRefunds up to 7 days before event\nEventbrite’s fee is nonrefundable.\n\n\nAbout this event\nWelcome to the October 23rd\, Meta Mastery-Reels Edition Class & Networking Event! \nCome join us for a fun in-person gathering where we’ll delve into meta mastery techniques in the context of creating engaging reels. Whether you’re looking to boost your social media presence or connect with fellow creatives\, this event is perfect for you! \nDuring the class\, you’ll learn valuable insights on how to make your reels stand out and attract a larger audience. Afterward\, take the chance to expand your network by mingling with like-minded individuals who share your passion for digital media. \nDon’t miss this opportunity to enhance your skills\, grow your online presence\, and make new connections at our Meta Mastery-Reels Edition Class & Networking Event happening on October 23th! \nExclusive and non-exclusive sponsorships available.
URL:https://www.rinetworking.com/event/october-23rd-meta-mastery-reels-edition-class-networking-event/
LOCATION:Varsity Luxury Sports Bar – 289 Atwells Ave. Providence RI.  289 Atwells Avenue Providence\, RI 02903 United States
CATEGORIES:BUSINESS NETWORKING
ATTACH;FMTTYPE=image/jpeg:https://www.rinetworking.com/wp-content/uploads/2024/09/October-23rd-Meta-Mastery-Reels-Edition-Class-Networking-Event.jpg
END:VEVENT
END:VCALENDAR