BEGIN:VCALENDAR
VERSION:2.0
PRODID:-//Rhode Island Business Networking - ECPv6.15.20//NONSGML v1.0//EN
CALSCALE:GREGORIAN
METHOD:PUBLISH
X-WR-CALNAME:Rhode Island Business Networking
X-ORIGINAL-URL:https://www.rinetworking.com
X-WR-CALDESC:Events for Rhode Island Business Networking
REFRESH-INTERVAL;VALUE=DURATION:PT1H
X-Robots-Tag:noindex
X-PUBLISHED-TTL:PT1H
BEGIN:VTIMEZONE
TZID:America/New_York
BEGIN:DAYLIGHT
TZOFFSETFROM:-0500
TZOFFSETTO:-0400
TZNAME:EDT
DTSTART:20230312T070000
END:DAYLIGHT
BEGIN:STANDARD
TZOFFSETFROM:-0400
TZOFFSETTO:-0500
TZNAME:EST
DTSTART:20231105T060000
END:STANDARD
BEGIN:DAYLIGHT
TZOFFSETFROM:-0500
TZOFFSETTO:-0400
TZNAME:EDT
DTSTART:20240310T070000
END:DAYLIGHT
BEGIN:STANDARD
TZOFFSETFROM:-0400
TZOFFSETTO:-0500
TZNAME:EST
DTSTART:20241103T060000
END:STANDARD
BEGIN:DAYLIGHT
TZOFFSETFROM:-0500
TZOFFSETTO:-0400
TZNAME:EDT
DTSTART:20250309T070000
END:DAYLIGHT
BEGIN:STANDARD
TZOFFSETFROM:-0400
TZOFFSETTO:-0500
TZNAME:EST
DTSTART:20251102T060000
END:STANDARD
END:VTIMEZONE
BEGIN:VEVENT
DTSTART;TZID=America/New_York:20241028T170000
DTEND;TZID=America/New_York:20241028T193000
DTSTAMP:20260421T120816
CREATED:20241015T003624Z
LAST-MODIFIED:20241015T003624Z
UID:10000181-1730134800-1730143800@www.rinetworking.com
SUMMARY:Momentum and Trust Networking October 28 2024
DESCRIPTION:Date and time\n\n\n \n\nMonday\, October 28 · 5 – 7:30pm EDT\n\n\nLocation\n\n \n\nTowne Tavern \n11 Robert F Toner Boulevard North Attleborough\, MA 02763 United States \n\n\nRefund Policy\n\nRefunds up to 7 days before event\nEventbrite’s fee is nonrefundable.\n\nAbout this event\nMOMENTUM NETWORKING\, Southeast New England’s longest running open networking event\, joins forces with TRUST NETWORKING to bring together business people from RI\, MA and beyond. This 4th Monday event is open to all business people. There will be free parking\, snacks and a cash bar. Bring lots of business cards!
URL:https://www.rinetworking.com/event/momentum-and-trust-networking-october-28-2024/
LOCATION:Towne Tavern  11 Robert F Toner Boulevard North Attleborough\, MA 02763 United States
CATEGORIES:BUSINESS NETWORKING
ATTACH;FMTTYPE=image/png:https://www.rinetworking.com/wp-content/uploads/2024/10/Momentum-and-Trust-Networking-October-28-2024.png
END:VEVENT
END:VCALENDAR