BEGIN:VCALENDAR
VERSION:2.0
PRODID:-//Rhode Island Business Networking - ECPv6.15.20//NONSGML v1.0//EN
CALSCALE:GREGORIAN
METHOD:PUBLISH
X-ORIGINAL-URL:https://www.rinetworking.com
X-WR-CALDESC:Events for Rhode Island Business Networking
REFRESH-INTERVAL;VALUE=DURATION:PT1H
X-Robots-Tag:noindex
X-PUBLISHED-TTL:PT1H
BEGIN:VTIMEZONE
TZID:America/New_York
BEGIN:DAYLIGHT
TZOFFSETFROM:-0500
TZOFFSETTO:-0400
TZNAME:EDT
DTSTART:20230312T070000
END:DAYLIGHT
BEGIN:STANDARD
TZOFFSETFROM:-0400
TZOFFSETTO:-0500
TZNAME:EST
DTSTART:20231105T060000
END:STANDARD
BEGIN:DAYLIGHT
TZOFFSETFROM:-0500
TZOFFSETTO:-0400
TZNAME:EDT
DTSTART:20240310T070000
END:DAYLIGHT
BEGIN:STANDARD
TZOFFSETFROM:-0400
TZOFFSETTO:-0500
TZNAME:EST
DTSTART:20241103T060000
END:STANDARD
BEGIN:DAYLIGHT
TZOFFSETFROM:-0500
TZOFFSETTO:-0400
TZNAME:EDT
DTSTART:20250309T070000
END:DAYLIGHT
BEGIN:STANDARD
TZOFFSETFROM:-0400
TZOFFSETTO:-0500
TZNAME:EST
DTSTART:20251102T060000
END:STANDARD
END:VTIMEZONE
BEGIN:VEVENT
DTSTART;TZID=America/New_York:20240807T093000
DTEND;TZID=America/New_York:20240807T103000
DTSTAMP:20260422T151856
CREATED:20240601T011444Z
LAST-MODIFIED:20240601T011444Z
UID:10000138-1723023000-1723026600@www.rinetworking.com
SUMMARY:WELCOME WEDNESDAY: NETWORKING COFFEE HOUR
DESCRIPTION:Description\n\n\n Welcome Wednesday Networking Event \nGet ready to expand your professional network and connect with like-minded individuals! Join us for an exciting networking event where you can meet new contacts\, exchange ideas\, and foster valuable connections. \n\n\nEveryone is welcome to join the conversation whether you’re a seasoned professional or just starting. Don’t miss this opportunity to grow your network and elevate your network. \nRSVP now and tag a friend who shouldn’t miss out! #WelcomeWednesday #Networking #GrowTogether” \n\n9:30 AM \nOpen Networking \n9:45 AM \nIntroductions (who you are\, what you do) \n10:30 AM \nGroup Photo / More Networking
URL:https://www.rinetworking.com/event/welcome-wednesday-networking-coffee-hour-3/
LOCATION:Residence Inn Lincoln 632 George Washington Highway Lincoln\, RI 02865 United States
CATEGORIES:BUSINESS NETWORKING
ATTACH;FMTTYPE=image/jpeg:https://www.rinetworking.com/wp-content/uploads/2020/04/Virtual-Morning-Coffee-–-Thursday-May-7-2020.jpg
END:VEVENT
END:VCALENDAR