BEGIN:VCALENDAR
VERSION:2.0
PRODID:-//Rhode Island Business Networking - ECPv6.15.20//NONSGML v1.0//EN
CALSCALE:GREGORIAN
METHOD:PUBLISH
X-ORIGINAL-URL:https://www.rinetworking.com
X-WR-CALDESC:Events for Rhode Island Business Networking
REFRESH-INTERVAL;VALUE=DURATION:PT1H
X-Robots-Tag:noindex
X-PUBLISHED-TTL:PT1H
BEGIN:VTIMEZONE
TZID:America/New_York
BEGIN:DAYLIGHT
TZOFFSETFROM:-0500
TZOFFSETTO:-0400
TZNAME:EDT
DTSTART:20240310T070000
END:DAYLIGHT
BEGIN:STANDARD
TZOFFSETFROM:-0400
TZOFFSETTO:-0500
TZNAME:EST
DTSTART:20241103T060000
END:STANDARD
BEGIN:DAYLIGHT
TZOFFSETFROM:-0500
TZOFFSETTO:-0400
TZNAME:EDT
DTSTART:20250309T070000
END:DAYLIGHT
BEGIN:STANDARD
TZOFFSETFROM:-0400
TZOFFSETTO:-0500
TZNAME:EST
DTSTART:20251102T060000
END:STANDARD
BEGIN:DAYLIGHT
TZOFFSETFROM:-0500
TZOFFSETTO:-0400
TZNAME:EDT
DTSTART:20260308T070000
END:DAYLIGHT
BEGIN:STANDARD
TZOFFSETFROM:-0400
TZOFFSETTO:-0500
TZNAME:EST
DTSTART:20261101T060000
END:STANDARD
END:VTIMEZONE
BEGIN:VEVENT
DTSTART;TZID=America/New_York:20250328T120000
DTEND;TZID=America/New_York:20250328T133000
DTSTAMP:20260420T091302
CREATED:20250124T174850Z
LAST-MODIFIED:20250124T174850Z
UID:10000207-1743163200-1743168600@www.rinetworking.com
SUMMARY:LEADS Lunch – Red White and Brew
DESCRIPTION:12:00 pm–1:30 pm \nMarch 28\, 2025 \n\n\n\n\n\nRed White & Brew Coffeehouse\n\n1800 Post Rd Unit 26\nWarwick\, Rhode Island 02886\nUnited States of America\n(401) 384-7210\nView Location\n\n\nMap\n\n\n\n\n\n\n\n\n\nTickets available at the door. \nYou are invited to join the team from \nRed White & Brew Coffeehouse\nfor lunch and networking! Come get acquainted with other members of the business community as you share your “60 second commercial” to help others better understand what you do\, what you have to offer\, and who you need to meet. You do not have to bring a lead\, just enjoy a tasty lunch.  This is a great event to easily connect with potential customers. Make sure to bring plenty of business cards! \n\nCRICC members will receive contact information for all attendees that have granted permission. \nOnline registration available until 1:50 pm on Thursday\, March 27th.
URL:https://www.rinetworking.com/event/leads-lunch-red-white-and-brew/
LOCATION:Red White & Brew Coffeehouse 1800 Post Rd Unit 26 Warwick\, Rhode Island 02886 United States of America
CATEGORIES:BUSINESS NETWORKING
ATTACH;FMTTYPE=image/png:https://www.rinetworking.com/wp-content/uploads/2023/08/LEADS-Lunch.png
END:VEVENT
END:VCALENDAR