BEGIN:VCALENDAR
VERSION:2.0
PRODID:-//Rhode Island Business Networking - ECPv6.15.20//NONSGML v1.0//EN
CALSCALE:GREGORIAN
METHOD:PUBLISH
X-ORIGINAL-URL:https://www.rinetworking.com
X-WR-CALDESC:Events for Rhode Island Business Networking
REFRESH-INTERVAL;VALUE=DURATION:PT1H
X-Robots-Tag:noindex
X-PUBLISHED-TTL:PT1H
BEGIN:VTIMEZONE
TZID:America/New_York
BEGIN:DAYLIGHT
TZOFFSETFROM:-0500
TZOFFSETTO:-0400
TZNAME:EDT
DTSTART:20240310T070000
END:DAYLIGHT
BEGIN:STANDARD
TZOFFSETFROM:-0400
TZOFFSETTO:-0500
TZNAME:EST
DTSTART:20241103T060000
END:STANDARD
BEGIN:DAYLIGHT
TZOFFSETFROM:-0500
TZOFFSETTO:-0400
TZNAME:EDT
DTSTART:20250309T070000
END:DAYLIGHT
BEGIN:STANDARD
TZOFFSETFROM:-0400
TZOFFSETTO:-0500
TZNAME:EST
DTSTART:20251102T060000
END:STANDARD
BEGIN:DAYLIGHT
TZOFFSETFROM:-0500
TZOFFSETTO:-0400
TZNAME:EDT
DTSTART:20260308T070000
END:DAYLIGHT
BEGIN:STANDARD
TZOFFSETFROM:-0400
TZOFFSETTO:-0500
TZNAME:EST
DTSTART:20261101T060000
END:STANDARD
BEGIN:DAYLIGHT
TZOFFSETFROM:-0500
TZOFFSETTO:-0400
TZNAME:EDT
DTSTART:20270314T070000
END:DAYLIGHT
BEGIN:STANDARD
TZOFFSETFROM:-0400
TZOFFSETTO:-0500
TZNAME:EST
DTSTART:20271107T060000
END:STANDARD
END:VTIMEZONE
BEGIN:VEVENT
DTSTART;TZID=America/New_York:20260204T083000
DTEND;TZID=America/New_York:20260204T093000
DTSTAMP:20260422T155549
CREATED:20251128T185534Z
LAST-MODIFIED:20251128T185534Z
UID:10000268-1770193800-1770197400@www.rinetworking.com
SUMMARY:Welcome Wednesday: Networking Coffee Hour
DESCRIPTION:Wednesday\, February 4\, 2026 (8:30 AM – 9:30 AM) (EST)\n\n\n\n\n\n\n\n\nDescription\nDon’t miss the chance to expand your network and make meaningful business connections. Join us as we welcome our newest Chamber members! Complimentary coffee will be available. Registration is free\, but required. \n8:30 AMOpen Networking \n8:45 AMIntroductions (share who you are and what you do) \n9:30 AMGroup Photo & Additional Networking
URL:https://www.rinetworking.com/event/welcome-wednesday-networking-coffee-hour-9/
LOCATION:Big Brothers Big Sisters of Rhode Island 188 Valley St Suite 125 Providence\, RI 02909 United States
CATEGORIES:BUSINESS NETWORKING
ATTACH;FMTTYPE=image/jpeg:https://www.rinetworking.com/wp-content/uploads/2020/04/Virtual-Morning-Coffee-–-Thursday-May-7-2020.jpg
GEO:41.8218214;-71.4407956
END:VEVENT
BEGIN:VEVENT
DTSTART;TZID=America/New_York:20250507T083000
DTEND;TZID=America/New_York:20250507T093000
DTSTAMP:20260422T155549
CREATED:20250112T035108Z
LAST-MODIFIED:20250321T155254Z
UID:10000199-1746606600-1746610200@www.rinetworking.com
SUMMARY:Welcome Wednesday: Networking Coffee Hour
DESCRIPTION:Wednesday\, May 7\, 2025 (8:30 AM – 9:30 AM) (EDT)\n\n\n\n\n\nDescription\n\nDon’t miss out on this opportunity to grow your network and make connections that matter. Join us as we welcome our newest members. Complimentary coffee & pastries will be provided. Registration is FREE & required. \n\n8:30 AM \nOpen Networking \n8:45 AM \nIntroductions (who you are\, what you do) \n9:30 AM \nGroup Photo / More Networking
URL:https://www.rinetworking.com/event/welcome-wednesday-networking-coffee-hour-6/
LOCATION:Big Brothers Big Sisters of Rhode Island 188 Valley St Suite 125 Providence\, RI 02909 United States
CATEGORIES:BUSINESS NETWORKING
ATTACH;FMTTYPE=image/jpeg:https://www.rinetworking.com/wp-content/uploads/2020/04/Virtual-Morning-Coffee-–-Thursday-May-7-2020.jpg
GEO:41.8218214;-71.4407956
END:VEVENT
BEGIN:VEVENT
DTSTART;TZID=America/New_York:20250225T083000
DTEND;TZID=America/New_York:20250225T093000
DTSTAMP:20260422T155549
CREATED:20250112T034749Z
LAST-MODIFIED:20250112T034749Z
UID:10000198-1740472200-1740475800@www.rinetworking.com
SUMMARY:Welcome Wednesday: Networking Coffee Hour
DESCRIPTION:Wednesday\, February 5\, 2025 (8:30 AM – 9:30 AM) (EST)\n\n\n\n\n\nDescription\n\nDon’t miss out on this opportunity to grow your network and make connections that matter. Join us as we welcome our newest members. Complimentary coffee & pastries will be provided. Registration is FREE & required. \n\n8:30 AM \nOpen Networking \n8:45 AM \nIntroductions (who you are\, what you do) \n9:30 AM \nGroup Photo / More Networking
URL:https://www.rinetworking.com/event/welcome-wednesday-networking-coffee-hour-5/
LOCATION:Big Brothers Big Sisters of Rhode Island 188 Valley St Suite 125 Providence\, RI 02909 United States
CATEGORIES:BUSINESS NETWORKING
ATTACH;FMTTYPE=image/jpeg:https://www.rinetworking.com/wp-content/uploads/2020/04/Virtual-Morning-Coffee-–-Thursday-May-7-2020.jpg
GEO:41.8218214;-71.4407956
END:VEVENT
END:VCALENDAR