BEGIN:VCALENDAR
VERSION:2.0
PRODID:-//Rhode Island Business Networking - ECPv6.15.20//NONSGML v1.0//EN
CALSCALE:GREGORIAN
METHOD:PUBLISH
X-ORIGINAL-URL:https://www.rinetworking.com
X-WR-CALDESC:Events for Rhode Island Business Networking
REFRESH-INTERVAL;VALUE=DURATION:PT1H
X-Robots-Tag:noindex
X-PUBLISHED-TTL:PT1H
BEGIN:VTIMEZONE
TZID:America/New_York
BEGIN:DAYLIGHT
TZOFFSETFROM:-0500
TZOFFSETTO:-0400
TZNAME:EDT
DTSTART:20230312T070000
END:DAYLIGHT
BEGIN:STANDARD
TZOFFSETFROM:-0400
TZOFFSETTO:-0500
TZNAME:EST
DTSTART:20231105T060000
END:STANDARD
BEGIN:DAYLIGHT
TZOFFSETFROM:-0500
TZOFFSETTO:-0400
TZNAME:EDT
DTSTART:20240310T070000
END:DAYLIGHT
BEGIN:STANDARD
TZOFFSETFROM:-0400
TZOFFSETTO:-0500
TZNAME:EST
DTSTART:20241103T060000
END:STANDARD
BEGIN:DAYLIGHT
TZOFFSETFROM:-0500
TZOFFSETTO:-0400
TZNAME:EDT
DTSTART:20250309T070000
END:DAYLIGHT
BEGIN:STANDARD
TZOFFSETFROM:-0400
TZOFFSETTO:-0500
TZNAME:EST
DTSTART:20251102T060000
END:STANDARD
END:VTIMEZONE
BEGIN:VEVENT
DTSTART;TZID=America/New_York:20240214T120000
DTEND;TZID=America/New_York:20240214T130000
DTSTAMP:20260422T155533
CREATED:20240208T023043Z
LAST-MODIFIED:20240208T023043Z
UID:10000069-1707912000-1707915600@www.rinetworking.com
SUMMARY:Trust Networking - North Kingstown
DESCRIPTION:Join us on Wednesdays from 12:00-1:00PM at our North Kingstown weekly networking meeting. Build connections and expand your network! \nLocation \n\n\n\n\n\n \n\n70 Romano Vineyard Way \n70 Romano Vineyard Way North Kingstown\, RI 02852 United States \nShow map\n\n\n\n\n\n\n\n\n\n\n\nAbout this event\n\n\n\n\n\n\nTrust Networking – North Kingstown \nJoin us for a weekly networking event in North Kingstown! Trust Networking is your chance to connect with like-minded individuals and build valuable relationships in a relaxed and friendly environment. \nDate: Wednesdays \nTime: 12:00-1:00PM \nLocation: 70 Romano Vineyard Way \nWhether you’re a seasoned professional or just starting out\, this event is perfect for expanding your network and discovering new opportunities. Don’t miss out on the chance to meet other professionals and expand your business network! \nAt Trust Networking\, you’ll have the opportunity to engage in meaningful conversations\, exchange ideas\, and gain insights from industry experts. With a focus on building trust and fostering genuine connections\, this event aims to create a supportive community that empowers individuals to thrive in the business world. \nSo mark your calendars and get ready to network like never before. Join us at Trust Networking – North Kingstown for an afternoon of valuable connections\, inspiring conversations\, and endless possibilities.
URL:https://www.rinetworking.com/event/trust-networking-north-kingstown/
LOCATION:70 Romano Vineyard Way  70 Romano Vineyard Way North Kingstown\, RI 02852 United States
CATEGORIES:BUSINESS NETWORKING
ATTACH;FMTTYPE=image/jpeg:https://www.rinetworking.com/wp-content/uploads/2024/02/Trust-Networking-North-Kingstown.jpg
END:VEVENT
END:VCALENDAR