BEGIN:VCALENDAR
VERSION:2.0
PRODID:-//Rhode Island Business Networking - ECPv6.15.20//NONSGML v1.0//EN
CALSCALE:GREGORIAN
METHOD:PUBLISH
X-ORIGINAL-URL:https://www.rinetworking.com
X-WR-CALDESC:Events for Rhode Island Business Networking
REFRESH-INTERVAL;VALUE=DURATION:PT1H
X-Robots-Tag:noindex
X-PUBLISHED-TTL:PT1H
BEGIN:VTIMEZONE
TZID:America/New_York
BEGIN:DAYLIGHT
TZOFFSETFROM:-0500
TZOFFSETTO:-0400
TZNAME:EDT
DTSTART:20220313T070000
END:DAYLIGHT
BEGIN:STANDARD
TZOFFSETFROM:-0400
TZOFFSETTO:-0500
TZNAME:EST
DTSTART:20221106T060000
END:STANDARD
BEGIN:DAYLIGHT
TZOFFSETFROM:-0500
TZOFFSETTO:-0400
TZNAME:EDT
DTSTART:20230312T070000
END:DAYLIGHT
BEGIN:STANDARD
TZOFFSETFROM:-0400
TZOFFSETTO:-0500
TZNAME:EST
DTSTART:20231105T060000
END:STANDARD
BEGIN:DAYLIGHT
TZOFFSETFROM:-0500
TZOFFSETTO:-0400
TZNAME:EDT
DTSTART:20240310T070000
END:DAYLIGHT
BEGIN:STANDARD
TZOFFSETFROM:-0400
TZOFFSETTO:-0500
TZNAME:EST
DTSTART:20241103T060000
END:STANDARD
BEGIN:DAYLIGHT
TZOFFSETFROM:-0500
TZOFFSETTO:-0400
TZNAME:EDT
DTSTART:20250309T070000
END:DAYLIGHT
BEGIN:STANDARD
TZOFFSETFROM:-0400
TZOFFSETTO:-0500
TZNAME:EST
DTSTART:20251102T060000
END:STANDARD
END:VTIMEZONE
BEGIN:VEVENT
DTSTART;TZID=America/New_York:20240325T173000
DTEND;TZID=America/New_York:20240325T200000
DTSTAMP:20260423T163216
CREATED:20240308T030429Z
LAST-MODIFIED:20240308T030429Z
UID:10000095-1711387800-1711396800@www.rinetworking.com
SUMMARY:March Madness Networking at Saint Federal Hill\, Providence
DESCRIPTION:Refund Policy\n\nContact the organizer to request a refund.\nEventbrite’s fee is nonrefundable.\n\n\n\n\n\n\n\nAbout this event\n\n\n2 hours 30 minutes\nMobile eTicket\n\n\n\n\n\n\nIf you buy a lottery ticket\, you’re not guaranteed to win but you’re guaranteed not to win if you don’t buy one. Same goes for making connections and building your business. You have to be in the game – to put yourself out there\, build your brand and poise yourself for success. \nYou’re bound to make new contacts. Increase your visibility and meet great people. Bring some colleagues\, friends\, or come alone. We are happy to introduce you to other guests. Simply let us know what type of industry professionals you would like to meet and we will make the introductions for you. \nAll industries are welcome – because let’s face it\, you never know where your next ‘client’ or from whom ‘your next referral’ may come. Opportunities are everywhere. \nOur Host Venue: Nestled in the heart of Historic Federal Hill\, Providence\, lies Saint – a dining revelation that marries the tradition of the Hill with the thrill of the unexpected. At Saint\, we believe in the duality of dining\, in the balance of classic and contemporary\, in an experience that tantalizes and surprises in equal measure. We look forward to having you with us! \nWhat to know: \n\nPre-Registration Recommended\nTickets $15 in advance | $25 at the door (cash only day of event)\nNo speeches\, sales pitches or presentations\nFew Vendor tables available – Categories are limited\nGain access to over 100 local professionals and decision makers\nTicket includes delicious complimentary appetizers\, Cash Bar\nOnline registration ends 2pm day of event (or) when tickets are sold out.\n\nTICKETS ARE NON-REFUNDABLE AND NON-TRANSFERABLE. \n“For 14 years\, 14\,300 guests have attended our monthly events as part of their business development and marketing strategies. They’ve made connections\, created partnerships\, built networks and made – as well as received great business recommendations. Always a win-win for everyone and we’d love to have you join us.~ Pat Paolino Cruz. Pat Cruz Events
URL:https://www.rinetworking.com/event/march-madness-networking-at-saint-federal-hill-providence/
LOCATION:Saint Federal Hill  289 Atwells Avenue Providence\, RI 02903 United States
CATEGORIES:BUSINESS NETWORKING
ATTACH;FMTTYPE=image/jpeg:https://www.rinetworking.com/wp-content/uploads/2024/03/March-Madness-Networking-at-Saint-Federal-Hill-Providence.jpg
END:VEVENT
BEGIN:VEVENT
DTSTART;TZID=America/New_York:20240124T173000
DTEND;TZID=America/New_York:20240124T200000
DTSTAMP:20260423T163216
CREATED:20240116T183904Z
LAST-MODIFIED:20240116T183904Z
UID:10000055-1706117400-1706126400@www.rinetworking.com
SUMMARY:January Networking Event
DESCRIPTION:You never know where your next client or referral partner may come from. Opportunity is everywhere. Who do YOU want to meet? We can help. \n\n\nJanuary Networking Event @ Chapel Grille\, Chapel View Blvd\, Cranston \nGet ready to build your network and your business because this is one of our most popular events of the year. A perfect opportunity for you to start 2024 successfully by meeting new people\, making valuable connections\, getting to know local influencers\, and expanding your professional network. \nEnjoy delicious complimentary appetizers while mingling in a relaxed and welcoming environment. Whether you’re looking for new job opportunities\, business partnerships\, or simply want to socialize with other professionals\, you’ll want to be here. \nWant to streamline the process? Let us know who you’d like to meet. We are happy to make some introductions for you at the event because the truth is… It’s not just about what you know\, or even who you know – but WHO KNOWS YOU! \nSo\, mark your calendar\, secure your ticket and tell some friends. If your a frequent guest\, we look forward to seeing you on the 24th – if you’re new to our events – we look forward to connecting with you there. \nEasily accessible off RTE 95 & 295. Parking is Free. \nTickets are limited – Be sure to get yours’ today! \nPat Cruz Events is Celebrating 14 Years of Successfully Connecting People Through Popular Monthly Networking Events. Our network would love to meet YOU!
URL:https://www.rinetworking.com/event/january-networking-event/
LOCATION:Chapel Grille\, Chapel View Boulevard\, Cranston\, RI\, USA  3000 Chapel View Boulevard Cranston\, RI 02920 United States
CATEGORIES:BUSINESS NETWORKING
ATTACH;FMTTYPE=image/jpeg:https://www.rinetworking.com/wp-content/uploads/2024/01/January-Networking-Event.jpg
END:VEVENT
BEGIN:VEVENT
DTSTART;TZID=America/New_York:20231227T173000
DTEND;TZID=America/New_York:20231227T200000
DTSTAMP:20260423T163216
CREATED:20231201T015045Z
LAST-MODIFIED:20231201T015045Z
UID:10000037-1703698200-1703707200@www.rinetworking.com
SUMMARY:December Networking " End of 23 Final Event Celebfration"
DESCRIPTION:Join us for last event of 2023. Let’s celebrate with a lively in-person gathering to wrap up the year and make great contacts for 2024! \nDecember Networking Event – “End of 23 Celebration” \nJoin us for an exciting networking event at Ceviches By Divino ® in Cranston. It’s time to celebrate the end of 2023 with a bang! Come and connect with professionals from various industries\, share ideas\, and expand your network. \nThis event is a fantastic opportunity to meet like-minded individuals and build valuable connections. Don’t miss out on this chance to enhance your professional circle while enjoying delicious food and a vibrant atmosphere. \nWhat to know: \n\nPre-Registration Recommended\nTickets $17 in advance | $25 at the door (cash only day of event)\nNo speeches\, sales pitches or presentations\nFew Vendor tables available – Categories are limited ($120/TABLE)\nGain access to local professionals\, decision makers and influencers in just a few hours\nTicket includes complimentary appetizers\, Cash Bar\nPlenty of Free Parking or Valet where available.\nOnline registration ends 2pm day of event (or) when tickets are sold out.\n\nMark your calendars and be ready to mingle on this special occasion. See you there!
URL:https://www.rinetworking.com/event/december-networking-end-of-23-final-event-celebfration/
LOCATION:Ceviches By Divino ® Cranston\, Chapel View Boulevard\, Cranston\, RI\, USA  1000 Chapel View Boulevard ##100 Cranston\, RI 02920 United States
CATEGORIES:BUSINESS NETWORKING
ATTACH;FMTTYPE=image/jpeg:https://www.rinetworking.com/wp-content/uploads/2023/11/December-Networking-End-of-23-Final-Event-Celebfration.jpg
END:VEVENT
BEGIN:VEVENT
DTSTART;TZID=America/New_York:20231115T173000
DTEND;TZID=America/New_York:20231115T200000
DTSTAMP:20260423T163216
CREATED:20231025T235655Z
LAST-MODIFIED:20231025T235746Z
UID:10000028-1700069400-1700078400@www.rinetworking.com
SUMMARY:'Thankful' NOVEMBER NETWORKING (Wednesday/Nov 15 @ WXYZ Bar\, ALOFT Hotel)
DESCRIPTION:Having the best technology in the world will never change the fact that opportunities and relationships in life will always happen through people. \nOur events are where people meet! You’ll make great connections AND increase your visibility in a relaxed atmosphere. Bring some colleagues\, friends\, or come alone. We are happy to introduce you to other guests. Simply let us know what type of industry professionals you would like to meet and we will make the introductions for you. \nAll industries welcome – because let’s face it\, you never know where your next ‘client’ or from whom ‘your next referral’ may come. Opportunities are everywhere. \nWhat to know: \n\nPre-Registration Recommended\nTickets $17 in advance | $25 at the door (cash only day of event)\nNo speeches\, sales pitches or presentations\nFew Vendor tables available – Categories are limited ($120/TABLE)\nGain access to over 100 local professionals and decision makers in just a few hours\nTicket includes complimentary appetizers\, Cash Bar\nPlenty of Free Parking or Valet where available.\n\nOnline registration ends 2pm day of event (or) when tickets are sold out. \nThink of it this way… If you buy a lottery ticket\, you’re not guaranteed to win but you’re guaranteed not to win if you don’t buy one. Same goes for making connections and building your business. You have to be in the game – to put yourself out there\, build your brand and poise yourself for success. So\, what are you waiting for? Get your ticket today and join us! \nTICKETS ARE NON-REFUNDABLE AND NON-TRANSFERABLE. \n“For 14 years\, 13\,900 guests have attended our monthly events as part of their business development and marketing strategies. They’ve made connections\, created partnerships\, built networks and made – as well as received great business recommendations. Always a win-win for everyone and we’d love to have you join us.~ Pat Paolino Cruz. Pat Cruz Events \nFOR INFORMATION ON OTHER EVENTS VISIT PATCRUZEVENTS.COM
URL:https://www.rinetworking.com/event/thankful-november-networking-wednesday-nov-15-wxyz-bar-aloft-hotel/
LOCATION:WXYZ Bar  191 Dorrance Street Providence\, RI 02903 United States
CATEGORIES:BUSINESS NETWORKING
ATTACH;FMTTYPE=image/jpeg:https://www.rinetworking.com/wp-content/uploads/2023/10/Thankful-NOVEMBER-NETWORKING.jpg
END:VEVENT
BEGIN:VEVENT
DTSTART;TZID=America/New_York:20231012T173000
DTEND;TZID=America/New_York:20231012T200000
DTSTAMP:20260423T163216
CREATED:20230928T182548Z
LAST-MODIFIED:20230928T182716Z
UID:10000017-1697131800-1697140800@www.rinetworking.com
SUMMARY:Making Connections- October Networking Event(14th Anniversary Celebration)
DESCRIPTION:Please join us for an incredible night of Networking at Chapel Grille and help us CELEBRATE our 14th year ANNIVERSARY!\nYes\, you are bound to make new contacts\, increase your visibility and meet great people. Bring some colleagues\, friends\, or come alone. We are happy to introduce you to other guests. Simply let us know what type of industry professionals you would like to meet and we will make the introductions for you. \nAll industries are welcome – because let’s face it\, you never know where your next ‘client’ or from whom ‘your next referral’ may come. Opportunities are everywhere. \nThink of it this way… \nIf you buy a lottery ticket\, you’re not guaranteed to win but you’re guaranteed not to win if you don’t buy one. Same goes for making connections and building your business. You have to be in the game – to put yourself out there\, build your brand and poise yourself for success. \nWhat to know: \n\nPre-Registration Recommended\nTickets $17 in advance | $25 at the door (cash only day of event)\nNo speeches\, sales pitches or presentations\nFew Vendor tables available – Categories are limited ($120/TABLE)\nGain access to over 100 local professionals and decision makers\nTicket includes complimentary appetizers\, Cash Bar\nPlenty of Free Parking\n\nOnline registration ends 2pm day of event (or) when tickets are sold out. \nTICKETS ARE NON-REFUNDABLE AND NON-TRANSFERABLE. \n“For 14 years\, 13\,900 guests have attended our monthly events as part of their business development and marketing strategies. They’ve made connections\, created partnerships\, built networks and made – as well as received great business recommendations. Always a win-win for everyone and we’d love to have you join us.~ Pat Paolino Cruz. Pat Cruz Events \nFOR INFORMATION ON OTHER EVENTS VISIT PATCRUZEVENTS.COM \nThis event is $17 \nGet your Tickets Here: \nMaking Connections- October Networking Event(14th Anniversary Celebration)
URL:https://www.rinetworking.com/event/making-connections-october-networking-event14th-anniversary-celebration/
LOCATION:Chapel Grille  3000 Chapel View Boulevard Cranston\, RI 02920 United States
CATEGORIES:BUSINESS NETWORKING
ATTACH;FMTTYPE=image/jpeg:https://www.rinetworking.com/wp-content/uploads/2023/09/October-Networking.jpg
END:VEVENT
BEGIN:VEVENT
DTSTART;TZID=America/New_York:20230913T173000
DTEND;TZID=America/New_York:20230913T200000
DTSTAMP:20260423T163216
CREATED:20230909T150211Z
LAST-MODIFIED:20230909T150211Z
UID:10000013-1694626200-1694635200@www.rinetworking.com
SUMMARY:September Networking at Crowne Plaza\, Warwick 'Getting back to business!'
DESCRIPTION:Our events are where people connect in RI. Join us to meet 100+ local professionals and influencers in a fun and relaxed atmosphere. \n\n\nSummer is over and it’s time to get ‘BACK TO BUSINESS’ ! Are you ready to meet new people\, make new connections\, talk to potential customers/clients and great referral partners? \nThis is the place to be if you want to make new connections!\nYou’re bound to make new contacts. Increase your visibility and meet great people. Bring some colleagues\, friends\, or come alone. We are happy to introduce you to other guests. Simply let us know what type of industry professionals you would like to meet and we will make the introductions for you. \nAll industries are welcome – because let’s face it\, you never know where your next ‘client’ or from whom ‘your next referral’ may come. Opportunities are everywhere. \nIf you buy a lottery ticket\, you’re not guaranteed to win but you’re guaranteed not to win if you don’t buy one. Same goes for making connections and building your business. You have to be in the game – to put yourself out there\, build your brand and poise yourself for success. \nWhat to know: \n\nPre-Registration Recommended\nTickets $17 in advance | $25 at the door (cash only day of event)\nNo speeches\, sales pitches or presentations\nFew Vendor tables available – Categories are limited ($120/TABLE)\nGain access to over 100 local professionals and decision makers\nTicket includes complimentary appetizers\, Cash Bar\nPlenty of Free Parking\n\nOnline registration ends 2pm day of event (or) when tickets are sold out. \nTICKETS ARE NON-REFUNDABLE AND NON-TRANSFERABLE. \n“For almost 14 years\, 13\,500 guests have attended our monthly events as part of their business development and marketing strategies. They’ve made connections\, created partnerships\, built networks and made – as well as received great business recommendations. Always a win-win for everyone and we’d love to have you join us.~ Pat Paolino Cruz. Pat Cruz Events \nFOR INFORMATION ON OTHER EVENTS VISIT PATCRUZEVENTS.COM \n\n\nThis event is $17 \nGet your Tickets Here: \nhttps://www.eventbrite.com/e/september-networking-at-crowne-plaza-warwick-getting-back-to-business-tickets-695625393277?aff=ebdsoporgprofile
URL:https://www.rinetworking.com/event/september-networking-at-crowne-plaza-warwick-getting-back-to-business/
LOCATION:Crowne Plaza Providence-Warwick (Airport)\, an IHG Hotel  801 Greenwich Avenue Warwick\, RI 02886 United States
CATEGORIES:BUSINESS NETWORKING
ATTACH;FMTTYPE=image/jpeg:https://www.rinetworking.com/wp-content/uploads/2023/09/September-Networking-Event.jpg
END:VEVENT
END:VCALENDAR