BEGIN:VCALENDAR
VERSION:2.0
PRODID:-//Rhode Island Business Networking - ECPv6.15.20//NONSGML v1.0//EN
CALSCALE:GREGORIAN
METHOD:PUBLISH
X-ORIGINAL-URL:https://www.rinetworking.com
X-WR-CALDESC:Events for Rhode Island Business Networking
REFRESH-INTERVAL;VALUE=DURATION:PT1H
X-Robots-Tag:noindex
X-PUBLISHED-TTL:PT1H
BEGIN:VTIMEZONE
TZID:America/New_York
BEGIN:DAYLIGHT
TZOFFSETFROM:-0500
TZOFFSETTO:-0400
TZNAME:EDT
DTSTART:20240310T070000
END:DAYLIGHT
BEGIN:STANDARD
TZOFFSETFROM:-0400
TZOFFSETTO:-0500
TZNAME:EST
DTSTART:20241103T060000
END:STANDARD
BEGIN:DAYLIGHT
TZOFFSETFROM:-0500
TZOFFSETTO:-0400
TZNAME:EDT
DTSTART:20250309T070000
END:DAYLIGHT
BEGIN:STANDARD
TZOFFSETFROM:-0400
TZOFFSETTO:-0500
TZNAME:EST
DTSTART:20251102T060000
END:STANDARD
BEGIN:DAYLIGHT
TZOFFSETFROM:-0500
TZOFFSETTO:-0400
TZNAME:EDT
DTSTART:20260308T070000
END:DAYLIGHT
BEGIN:STANDARD
TZOFFSETFROM:-0400
TZOFFSETTO:-0500
TZNAME:EST
DTSTART:20261101T060000
END:STANDARD
END:VTIMEZONE
BEGIN:VEVENT
DTSTART;TZID=America/New_York:20250926T120000
DTEND;TZID=America/New_York:20250926T133000
DTSTAMP:20260425T154917
CREATED:20250920T000706Z
LAST-MODIFIED:20250920T000706Z
UID:10000254-1758888000-1758893400@www.rinetworking.com
SUMMARY:LEADS Lunch [UNO Pizzaria & Grill]
DESCRIPTION:12:00 pm–1:30 pm \nSeptember 26\, 2025 \n\n\n\n\n\nYou are invited to enjoy lunch and networking at UNO Pizzaria & Grill\, located in Warwick. \nCome get acquainted with other members of the business community as you share your “60 second commercial” to help others better understand what you do\, what you have to offer\, and who you need to meet. You do not have to bring a lead\, just enjoy a tasty lunch.  This is a great event to easily connect with potential customers. Make sure to bring plenty of business cards! \n\nCRICC members will receive contact information for all attendees that have granted permission. \nTICKETS AVAILABLE \n\n\n\n\nUno Pizzeria & Grill\n339 Bald Hill Rd\nWarwick\, RI 02886\nUSA\n401-738-5610
URL:https://www.rinetworking.com/event/leads-lunch-uno-pizzaria-grill/
LOCATION:Uno Pizzeria & Grill 339 Bald Hill Rd Warwick\, RI 02886 USA
CATEGORIES:BUSINESS NETWORKING
ATTACH;FMTTYPE=image/png:https://www.rinetworking.com/wp-content/uploads/2023/08/LEADS-Lunch.png
END:VEVENT
END:VCALENDAR