BEGIN:VCALENDAR
VERSION:2.0
PRODID:-//Rhode Island Business Networking - ECPv6.15.20//NONSGML v1.0//EN
CALSCALE:GREGORIAN
METHOD:PUBLISH
X-WR-CALNAME:Rhode Island Business Networking
X-ORIGINAL-URL:https://www.rinetworking.com
X-WR-CALDESC:Events for Rhode Island Business Networking
REFRESH-INTERVAL;VALUE=DURATION:PT1H
X-Robots-Tag:noindex
X-PUBLISHED-TTL:PT1H
BEGIN:VTIMEZONE
TZID:America/New_York
BEGIN:DAYLIGHT
TZOFFSETFROM:-0500
TZOFFSETTO:-0400
TZNAME:EDT
DTSTART:20250309T070000
END:DAYLIGHT
BEGIN:STANDARD
TZOFFSETFROM:-0400
TZOFFSETTO:-0500
TZNAME:EST
DTSTART:20251102T060000
END:STANDARD
BEGIN:DAYLIGHT
TZOFFSETFROM:-0500
TZOFFSETTO:-0400
TZNAME:EDT
DTSTART:20260308T070000
END:DAYLIGHT
BEGIN:STANDARD
TZOFFSETFROM:-0400
TZOFFSETTO:-0500
TZNAME:EST
DTSTART:20261101T060000
END:STANDARD
BEGIN:DAYLIGHT
TZOFFSETFROM:-0500
TZOFFSETTO:-0400
TZNAME:EDT
DTSTART:20270314T070000
END:DAYLIGHT
BEGIN:STANDARD
TZOFFSETFROM:-0400
TZOFFSETTO:-0500
TZNAME:EST
DTSTART:20271107T060000
END:STANDARD
END:VTIMEZONE
BEGIN:VEVENT
DTSTART;TZID=America/New_York:20260424T083000
DTEND;TZID=America/New_York:20260424T100000
DTSTAMP:20260424T064949
CREATED:20260410T202712Z
LAST-MODIFIED:20260410T202758Z
UID:10000302-1777019400-1777024800@www.rinetworking.com
SUMMARY:Last Friday Coffee - Business Networking
DESCRIPTION:Date and time\n\n\n\nFriday\, April 24  •  8:30 AM – 10 AM\n\n\n\n\n\n\n\n\n\n\n\n\n\nLocation\n\n\n  \n\nQuonset Office Park \n70 Romano Vineyard Way North Kingstown\, RI 02852 United States \n\n\n\n\n\n\n\n\n\n\n\n\n\n\n\n\n\n\n\n\n\n\n\n\n\n\n\n\n\n\n\n\n\nAbout this event\n\n\n\n\n\n\nBring plenty of business cards and a positive energetic business attitude. Stop by and meet new contacts and\, as always\, rebuild your associations.\n\n\n\n\n\n\n\n\n\n\nEvery customer at one time or another has been on a blind date with a business they never met\, businesses only have one shot to make a great first impression. \nWe help customers fall in love with your business through web\, video\, audio and print\, using strategic storytelling and engaging design – wherever your customers come in contact with you.
URL:https://www.rinetworking.com/event/last-friday-coffee-business-networking-25/
LOCATION:Quonset Office Park  70 Romano Vineyard Way North Kingstown\, RI 02852 United States\, Romano Vineyard Way\, North Kingstown\, Rhode Island\, 02852\, United States
CATEGORIES:BUSINESS NETWORKING
ATTACH;FMTTYPE=image/jpeg:https://www.rinetworking.com/wp-content/uploads/2024/04/Last-Friday-Coffee-–-Business-Networking.jpg
GEO:41.6075096;-71.4461421
X-APPLE-STRUCTURED-LOCATION;VALUE=URI;X-ADDRESS=Quonset Office Park  70 Romano Vineyard Way North Kingstown RI 02852 United States Romano Vineyard Way North Kingstown Rhode Island 02852 United States;X-APPLE-RADIUS=500;X-TITLE=Romano Vineyard Way:geo:-71.4461421,41.6075096
END:VEVENT
BEGIN:VEVENT
DTSTART;TZID=America/New_York:20260430T080000
DTEND;TZID=America/New_York:20260430T090000
DTSTAMP:20260424T064949
CREATED:20260327T144227Z
LAST-MODIFIED:20260327T144227Z
UID:10000298-1777536000-1777539600@www.rinetworking.com
SUMMARY:Good Networking Coffee Hour at Good Working – April 2026
DESCRIPTION:What to Expect: Join fellow professionals at our monthly Good Networking Coffee Hour held at the cozy and inviting Good Working co-working space. Whether you’re a freelancer\, business owner\, or just someone looking to expand their network\, this is the event for you! \nWhen: Last Thursday of every month\, 8am-9am. (If it’s a holiday\, we’ll meet the following Thursday.) \nWhere: Good Working\, 585 Smithfield Rd. North Smithfield\, RI 02896 \nHost: TBD \n☕ Coffee on Us: Enjoy complimentary coffee while you connect and collaborate. \n⏱ 60-Second Elevator Pitches: Everyone gets a chance! Prepare a brief introduction about you and your business. It’s a fantastic opportunity to showcase what you do and learn about others. \n🏆 Be the Next Host: Every month\, one outstanding participant will be selected to host and lead the following month’s gathering. It’s a great way to spotlight your business and leadership skills! \nRemember\, networking isn’t just about business. It’s about building meaningful\, lasting relationships. Come\, be a part of this vibrant community and let’s make every meeting memorable! \nRSVP and mark your calendars. We can’t wait to see you there!
URL:https://www.rinetworking.com/event/good-networking-coffee-hour-at-good-working-april-2026/
LOCATION:Good Working coworking 585 Smithfield Road North Smithfield\, RI 02896 United States
CATEGORIES:BUSINESS NETWORKING
ATTACH;FMTTYPE=image/jpeg:https://www.rinetworking.com/wp-content/uploads/2023/10/Good-Networking-Coffee-Hour-at-Good-Working.jpg
END:VEVENT
END:VCALENDAR