BEGIN:VCALENDAR
VERSION:2.0
PRODID:-//Rhode Island Business Networking - ECPv6.15.20//NONSGML v1.0//EN
CALSCALE:GREGORIAN
METHOD:PUBLISH
X-WR-CALNAME:Rhode Island Business Networking
X-ORIGINAL-URL:https://www.rinetworking.com
X-WR-CALDESC:Events for Rhode Island Business Networking
REFRESH-INTERVAL;VALUE=DURATION:PT1H
X-Robots-Tag:noindex
X-PUBLISHED-TTL:PT1H
BEGIN:VTIMEZONE
TZID:America/New_York
BEGIN:DAYLIGHT
TZOFFSETFROM:-0500
TZOFFSETTO:-0400
TZNAME:EDT
DTSTART:20230312T070000
END:DAYLIGHT
BEGIN:STANDARD
TZOFFSETFROM:-0400
TZOFFSETTO:-0500
TZNAME:EST
DTSTART:20231105T060000
END:STANDARD
BEGIN:DAYLIGHT
TZOFFSETFROM:-0500
TZOFFSETTO:-0400
TZNAME:EDT
DTSTART:20240310T070000
END:DAYLIGHT
BEGIN:STANDARD
TZOFFSETFROM:-0400
TZOFFSETTO:-0500
TZNAME:EST
DTSTART:20241103T060000
END:STANDARD
BEGIN:DAYLIGHT
TZOFFSETFROM:-0500
TZOFFSETTO:-0400
TZNAME:EDT
DTSTART:20250309T070000
END:DAYLIGHT
BEGIN:STANDARD
TZOFFSETFROM:-0400
TZOFFSETTO:-0500
TZNAME:EST
DTSTART:20251102T060000
END:STANDARD
END:VTIMEZONE
BEGIN:VEVENT
DTSTART;TZID=America/New_York:20240312T074500
DTEND;TZID=America/New_York:20240312T084500
DTSTAMP:20260420T202527
CREATED:20240228T233515Z
LAST-MODIFIED:20240228T234510Z
UID:10000089-1710229500-1710233100@www.rinetworking.com
SUMMARY:Visitors Day at The Village RI
DESCRIPTION:Details\nEvent by The Village RI\nVL Restaurant & Lounge\nAre you looking to network but haven’t found the right group? The Village RI might be the place for you! We invite you to come meet our members and experience a meeting.
URL:https://www.rinetworking.com/event/visitors-day-at-the-village-ri/
LOCATION:VL Restaurant & Lounge
CATEGORIES:BUSINESS NETWORKING
ATTACH;FMTTYPE=image/jpeg:https://www.rinetworking.com/wp-content/uploads/2024/02/Visitors-Day-at-The-Village-RI.jpg
END:VEVENT
BEGIN:VEVENT
DTSTART;TZID=America/New_York:20240312T180000
DTEND;TZID=America/New_York:20240312T200000
DTSTAMP:20260420T202527
CREATED:20240302T011814Z
LAST-MODIFIED:20240302T015508Z
UID:10000091-1710266400-1710273600@www.rinetworking.com
SUMMARY:Real Estate Deal Makers Premiere Networking Event- March
DESCRIPTION:Network with professionals that deal with all aspects of real estate from concept to sale at our premiere networking event!\nJoin us for an exciting opportunity to forge valuable connections with professionals across the entire spectrum of the real estate industry\, from concept to sale! Whether you’re a novice or a veteran in real estate industry\, whether your focus is on sales\,architecture\, building\, materials\, legal\, financial\, investing\, or any other aspect of the field\, this event is the perfect platform for you. \nOrganized by Jacob “The Connector\,” our Deal Makers Networking event is designed to unite professionals from all spheres – including agents\, architects\, brokers\, lenders\, investors\, attorneys\, accountants\, contractors\, and more. \nThis is your chance to expand your network\, discover insider tips\, and collaborate with both seasoned experts and rising stars in the industry! \nMark your calendar: \n📅 Date: Tuesday\, March 12th \n⏰ Time: 6 – 8 PM \n📍 Location: The George\, 121 Washington St\, Providence RI \nFor a ticket fee of just $15\, enjoy an evening of networking complemented by exquisite hors d’oeuvres \nSpecial thanks to our spotlight sponsor\, Mortgage Equity Partners – David Frankel\, and our season sponsors: Know Solar with Joe Solar – Joe Moretti\, Providence Architecture & Building Co – Kevin Diamond\, Obsessed with Success Marketing – Dayna Mancini-Simmons\, Law Office of Cara B. Conaty\, Superior Comfort Inc -Jacob Ledsworth\, HouseMaster Home Inspection – Lisa Miranda\, Lathrop Insurance – James Kane\, Marc Gertsacov ESQ – RCF&P Law\, Stonelink Property Management – Steve Stasiuk\, Cornerstone Commercial Capital – Bill Wallace\, and Crystal Waters Hot Tubs – Carol Benoit.
URL:https://www.rinetworking.com/event/real-estate-deal-makers-premiere-networking-event-march/
LOCATION:The George on Washington St.  121 Washington Street Providence\, RI 02903 United States
CATEGORIES:BUSINESS NETWORKING
ATTACH;FMTTYPE=image/jpeg:https://www.rinetworking.com/wp-content/uploads/2024/02/Real-Estate-Deal-Makers-Premiere-Networking-Event-February.jpg
END:VEVENT
BEGIN:VEVENT
DTSTART;TZID=America/New_York:20240314T180000
DTEND;TZID=America/New_York:20240314T193000
DTSTAMP:20260420T202527
CREATED:20240308T024321Z
LAST-MODIFIED:20240308T024321Z
UID:10000093-1710439200-1710444600@www.rinetworking.com
SUMMARY:Property Management 101
DESCRIPTION:Join us for an enlightening introduction to property management\, featuring Steve Stasiuk from Stonelink Property Management who will share invaluable insights and expertise from our experience in managing over 1700 in Rhode Island and Southeast Massachusetts. Whether you’re a seasoned professional or just starting out in the field\, this evening offers a unique and interactive opportunity to delve into the latest trends\, strategies\, and best practices in property management. \nWe will cover a wide range of topics\, including: \n-Having the right mindset to manage investment properties\n-Effective tenant communication and relationship management\n-Establishing partnerships and processes to address problems that arise\n-Offer strategies for optimizing rental property performance and profitability\n-Legal and regulatory considerations for property managers\n-Technology and tricks of trade to streamline operations \nAttendees will leave with practical knowledge and actionable strategies that can be applied immediately to enhance their property management skills and achieve greater success in the industry.
URL:https://www.rinetworking.com/event/property-management-101/
LOCATION:Good Working coworking 585 Smithfield Road North Smithfield\, RI 02896 United States
CATEGORIES:SEMINARS
ATTACH;FMTTYPE=image/png:https://www.rinetworking.com/wp-content/uploads/2024/03/Steve-Events-1-Facebook-Post-Steve-Stasiuk.png
END:VEVENT
BEGIN:VEVENT
DTSTART;TZID=America/New_York:20240315T073000
DTEND;TZID=America/New_York:20240315T120000
DTSTAMP:20260420T202527
CREATED:20240112T024057Z
LAST-MODIFIED:20240112T024256Z
UID:10000053-1710487800-1710504000@www.rinetworking.com
SUMMARY:Networking MasterClass
DESCRIPTION:Welcome to the Networking MasterClass! \nJoin us on Fri Mar 15 2024 at 07:30 AM for an exciting in-person event where together we will unlock powerful networking skills\, utilize the tools given\, and master your networking potential. This event will take place at the enVision Hotel & Conference Center Mansfield-Foxboro\, a perfect venue to connect with like-minded professionals. \nDuring this masterclass\, you’ll have the opportunity to learn valuable techniques and strategies to build meaningful relationships\, expand your professional network\, and create lasting connections. Our network speakers will share their insights\, tips\, and success stories\, providing you with actionable advice to take your networking game to the next level. \nWhether you’re a seasoned professional or just starting your career\, the Networking MasterClass is designed to help you unlock new skills and open doors to success. Don’t miss this chance to broaden your network and gain valuable insights from industry leaders. \nRegister by February 14\, 2024\, for our Early Bird discount! PROMO CODE: ERLYBRD \nMark your calendars and get ready to boost your networking skills at the Networking MasterClass. We look forward to seeing you there!
URL:https://www.rinetworking.com/event/networking-masterclass/
LOCATION:enVision Hotel & Conference Center Mansfield-Foxboro  31 Hampshire Street Mansfield\, MA 02048 United States
CATEGORIES:BUSINESS NETWORKING
ATTACH;FMTTYPE=image/jpeg:https://www.rinetworking.com/wp-content/uploads/2024/01/Networking-MasterClass.jpg
END:VEVENT
BEGIN:VEVENT
DTSTART;TZID=America/New_York:20240316T090000
DTEND;TZID=America/New_York:20240316T100000
DTSTAMP:20260420T202527
CREATED:20240308T025406Z
LAST-MODIFIED:20240308T025406Z
UID:10000094-1710579600-1710583200@www.rinetworking.com
SUMMARY:Yoga for Every Body! Saturdays at 9 am
DESCRIPTION:Find Your Flow in This All-Levels Yoga Class!\nJoin Ashley Sarji\, a passionate yoga teacher\, for a 60-minute class designed to welcome everyone! Whether you’re a seasoned yogi or just starting out\, modifications will be offered throughout the practice to make it accessible for all bodies. \nGet ready to move freely in comfortable clothing! We’ll explore light abdominal work\, bodyweight strengthening exercises\, and refreshing stretches. You’ll leave feeling energized and ready to take on the day! \nWhat to bring: \nYoga mat\nWater bottle \nWear: \nComfortable clothing that allows for movement \nDonations welcome: \nCash or Venmo \nAbout Ashley: \nAshley is passionate about sharing the transformative power of movement\, especially yoga\, with others. She’s excited to guide you on your yoga journey!
URL:https://www.rinetworking.com/event/yoga-for-every-body-saturdays-at-9-am/
LOCATION:Good Working coworking 585 Smithfield Road North Smithfield\, RI 02896 United States
CATEGORIES:SEMINARS,WORKSHOPS
ATTACH;FMTTYPE=image/png:https://www.rinetworking.com/wp-content/uploads/2024/01/Community-Yoga-Class.png
END:VEVENT
BEGIN:VEVENT
DTSTART;TZID=America/New_York:20240321T173000
DTEND;TZID=America/New_York:20240321T193000
DTSTAMP:20260420T202527
CREATED:20240224T015631Z
LAST-MODIFIED:20240224T015631Z
UID:10000087-1711042200-1711049400@www.rinetworking.com
SUMMARY:Evening Networking at Not Your Average Joe's
DESCRIPTION:Central Rhode Island Chamber of Commerce Winter Evening Networking Series presented by Westerly Community Credit Union \nReconnect with old friends\, build new relationships\, and meet potential customers and clients.  Gather with us at Iron Works Restaurant for great conversations\, delicious appetizers and your beverage of choice. \nTicket includes: (1) drink ticket (wine or beer)\, appetizers and networking. \n\nTickets will be available online prior to 10:00 a.m. the day of the event. \nPlease note: Events must be paid prior to\, or at event. The Central Rhode Island Chamber of Commerce Inc. advises all to drink responsibly.\nIf you\, or any of your guests\, have food allergies or special dietary restrictions please notify us within 48 hours of the event so accommodations can be made. Persons registered for an event will be charged unless cancellation notice is given to the Chamber 72 hours in advance.
URL:https://www.rinetworking.com/event/evening-networking-at-not-your-average-joes/
LOCATION:Not Your Average Joe’s 400 Bald Hill Road Warwick\, RI 02886
CATEGORIES:BUSINESS NETWORKING
ATTACH;FMTTYPE=image/jpeg:https://www.rinetworking.com/wp-content/uploads/2024/01/Evening-Networking-at-Iron-Works-Restaurant.jpeg
END:VEVENT
BEGIN:VEVENT
DTSTART;TZID=America/New_York:20240322T120000
DTEND;TZID=America/New_York:20240322T130000
DTSTAMP:20260420T202527
CREATED:20240314T040256Z
LAST-MODIFIED:20240321T001106Z
UID:10000097-1711108800-1711112400@www.rinetworking.com
SUMMARY:Trust Networking - Cumberland B2B
DESCRIPTION:Join us for our weekly networking meeting! Build new connections and expand your professional network! \nLocation \n\n\n\n\n\n\n  \n\nRavenous Brewing \n10 Industrial Rd Cumberland\, RI 02864 United States
URL:https://www.rinetworking.com/event/trust-networking-cumberland-b2b-3/
LOCATION:Ravenous Brewing  10 Industrial Rd Cumberland\, RI 02864 United States
CATEGORIES:BUSINESS NETWORKING
ATTACH;FMTTYPE=image/jpeg:https://www.rinetworking.com/wp-content/uploads/2024/03/Trust-Networking-Cumberland-B2B.jpg
ORGANIZER;CN="Trust Networking":MAILTO:admin@trustnetworkinggroup.com
END:VEVENT
BEGIN:VEVENT
DTSTART;TZID=America/New_York:20240323T090000
DTEND;TZID=America/New_York:20240323T100000
DTSTAMP:20260420T202527
CREATED:20240322T020021Z
LAST-MODIFIED:20240322T020021Z
UID:10000104-1711184400-1711188000@www.rinetworking.com
SUMMARY:Yoga for Every Body! Saturdays at 9am
DESCRIPTION:Find Your Flow in This All-Levels Yoga Class!\nJoin Ashley Sarji\, a passionate yoga teacher\, for a 60-minute class designed to welcome everyone! Whether you’re a seasoned yogi or just starting out\, modifications will be offered throughout the practice to make it accessible for all bodies. \nGet ready to move freely in comfortable clothing! We’ll explore light abdominal work\, bodyweight strengthening exercises\, and refreshing stretches. You’ll leave feeling energized and ready to take on the day! \nWhat to bring: \nYoga mat\nWater bottle \nWear: \nComfortable clothing that allows for movement \nDonations welcome: \nCash or Venmo \nAbout Ashley: \nAshley is passionate about sharing the transformative power of movement\, especially yoga\, with others. She’s excited to guide you on your yoga journey!
URL:https://www.rinetworking.com/event/yoga-for-every-body-saturdays-at-9am/
LOCATION:Good Working coworking 585 Smithfield Road North Smithfield\, RI 02896 United States
CATEGORIES:SEMINARS,WORKSHOPS
ATTACH;FMTTYPE=image/png:https://www.rinetworking.com/wp-content/uploads/2024/01/Community-Yoga-Class.png
END:VEVENT
END:VCALENDAR