BEGIN:VCALENDAR
VERSION:2.0
PRODID:-//Rhode Island Business Networking - ECPv6.15.20//NONSGML v1.0//EN
CALSCALE:GREGORIAN
METHOD:PUBLISH
X-WR-CALNAME:Rhode Island Business Networking
X-ORIGINAL-URL:https://www.rinetworking.com
X-WR-CALDESC:Events for Rhode Island Business Networking
REFRESH-INTERVAL;VALUE=DURATION:PT1H
X-Robots-Tag:noindex
X-PUBLISHED-TTL:PT1H
BEGIN:VTIMEZONE
TZID:America/New_York
BEGIN:DAYLIGHT
TZOFFSETFROM:-0500
TZOFFSETTO:-0400
TZNAME:EDT
DTSTART:20230312T070000
END:DAYLIGHT
BEGIN:STANDARD
TZOFFSETFROM:-0400
TZOFFSETTO:-0500
TZNAME:EST
DTSTART:20231105T060000
END:STANDARD
BEGIN:DAYLIGHT
TZOFFSETFROM:-0500
TZOFFSETTO:-0400
TZNAME:EDT
DTSTART:20240310T070000
END:DAYLIGHT
BEGIN:STANDARD
TZOFFSETFROM:-0400
TZOFFSETTO:-0500
TZNAME:EST
DTSTART:20241103T060000
END:STANDARD
BEGIN:DAYLIGHT
TZOFFSETFROM:-0500
TZOFFSETTO:-0400
TZNAME:EDT
DTSTART:20250309T070000
END:DAYLIGHT
BEGIN:STANDARD
TZOFFSETFROM:-0400
TZOFFSETTO:-0500
TZNAME:EST
DTSTART:20251102T060000
END:STANDARD
END:VTIMEZONE
BEGIN:VEVENT
DTSTART;TZID=America/New_York:20240207T083000
DTEND;TZID=America/New_York:20240207T093000
DTSTAMP:20260422T192927
CREATED:20231201T015923Z
LAST-MODIFIED:20231201T020055Z
UID:10000038-1707294600-1707298200@www.rinetworking.com
SUMMARY:WELCOME WEDNESDAY: NETWORKING COFFEE HOUR
DESCRIPTION:Don’t miss out on this opportunity to grow your network and make connections that matter. Join us as we welcome our newest members. Free coffee & pastries will be provided. Registration is FREE & required. \n8:30 AM \nOpen Networking \n8:45 AM \nIntroductions (who you are\, what you do) \n9:30 AM \nGroup Photo / More Networking \n 
URL:https://www.rinetworking.com/event/welcome-wednesday-networking-coffee-hour/
LOCATION:6 Blackstone Valley Place\, Lincoln\, RI 02865
CATEGORIES:BUSINESS NETWORKING
ATTACH;FMTTYPE=image/jpeg:https://www.rinetworking.com/wp-content/uploads/2020/04/Virtual-Morning-Coffee-–-Thursday-May-7-2020.jpg
END:VEVENT
BEGIN:VEVENT
DTSTART;TZID=America/New_York:20240207T173000
DTEND;TZID=America/New_York:20240207T190000
DTSTAMP:20260422T192927
CREATED:20240126T185936Z
LAST-MODIFIED:20240126T190238Z
UID:10000058-1707327000-1707332400@www.rinetworking.com
SUMMARY:Master Microsoft Excel: 90-Minute Expert Training with Kamil
DESCRIPTION:Unlock the full potential of Microsoft Excel with our comprehensive training course\, led by renowned IT expert Kamil Sarji. In just 90 minutes\, you’ll discover powerful techniques and insider tips to transform your data management skills. This course is ideal for both beginners and seasoned users looking to deepen their understanding of Excel’s capabilities. \nWhy Join Our Excel Training? \nIn-Depth Spreadsheet Concepts: Grasp the fundamental principles of Excel spreadsheets.\nData Organization Strategies: Learn the most effective methods to organize and manage your data.\nAdvanced Sheet Creation: Master the creation and management of multiple sheets within a single spreadsheet.\nCell\, Row\, and Column Application: Understand the nuances of cell\, row\, and column usage for optimal data arrangement.\nComprehensive Cell Formatting: Dive into the rules and guidelines for effective cell formatting.\nData Sorting & Filtering: Discover how to efficiently sort and filter data to suit your specific needs.\nPrinting Essentials: Learn setting paper sizes\, print titles\, and defining print areas for professional outputs.\nTop 10 Excel Formulas: Get hands-on with the ten most essential Excel formulas.\nFormulas Explained: Understand the logic and purpose behind using different formulas.\nTime-Saving Macros: Explore how macros can automate tasks and save you time.
URL:https://www.rinetworking.com/event/master-microsoft-excel-90-minute-expert-training-with-kamil/
LOCATION:Good Working coworking 585 Smithfield Road North Smithfield\, RI 02896 United States
CATEGORIES:SEMINARS
ATTACH;FMTTYPE=image/jpeg:https://www.rinetworking.com/wp-content/uploads/2024/01/Master-Microsoft-Excel-90-Minute-Expert-Training-with-Kamil.jpg
END:VEVENT
BEGIN:VEVENT
DTSTART;TZID=America/New_York:20240208T080000
DTEND;TZID=America/New_York:20240208T090000
DTSTAMP:20260422T192927
CREATED:20240131T005734Z
LAST-MODIFIED:20240131T005734Z
UID:10000065-1707379200-1707382800@www.rinetworking.com
SUMMARY:Morning Coffee - Lonardo Forte & Trudeau LLP (Warwick)
DESCRIPTION:This month\, Lonardo Forte & Trudeau Attorneys At Law invite you to start your day off by joining them in their beautiful new office space for a fresh hot cup of coffee while experiencing the benefit of networking.
URL:https://www.rinetworking.com/event/morning-coffee-lonardo-forte-trudeau-llp-warwick/
LOCATION:Lonardo Forte & Trudeau LLP 2980 West Shore Rd Warwick\, RI 02886
CATEGORIES:BUSINESS NETWORKING
ATTACH;FMTTYPE=image/jpeg:https://www.rinetworking.com/wp-content/uploads/2023/04/Morning_Coffee_2023-593x400-1.jpg
END:VEVENT
BEGIN:VEVENT
DTSTART;TZID=America/New_York:20240210T100000
DTEND;TZID=America/New_York:20240210T110000
DTSTAMP:20260422T192927
CREATED:20240126T190952Z
LAST-MODIFIED:20240126T190952Z
UID:10000059-1707559200-1707562800@www.rinetworking.com
SUMMARY:GET THE LEAD OUT!!!
DESCRIPTION:Landlords & Contractors – Come and learn everything you need to know about the changes to the lead law requirements in Rhode Island. These changes are going to cost money to implement and cities and towns will be looking for compliance from Landlords. Unless exempt from lead mitigation\, all Landlords must now register on line with DOH. $50 per month per unit if not registered. $125 per month per unit if not in compliance with lead mitigation. In order to register\, you must have your lead certificates. The new requirements allow tenants to withhold their rent for non-compliance. Evictions for Non Payment will now require lead certificates to be submitted with paperwork as part of the court case. Come and find out how this law will affect you. Lead Safe Inspections & Consulting will outline the list of new requirements. Russo & Lough Law Firm will advise what to do when your tenants withhold rent.
URL:https://www.rinetworking.com/event/get-the-lead-out/
LOCATION:Good Working coworking 585 Smithfield Road North Smithfield\, RI 02896 United States
CATEGORIES:SEMINARS
ATTACH;FMTTYPE=image/png:https://www.rinetworking.com/wp-content/uploads/2024/01/GET-THE-LEAD-OUT.png
END:VEVENT
BEGIN:VEVENT
DTSTART;TZID=America/New_York:20240213T110000
DTEND;TZID=America/New_York:20240213T120000
DTSTAMP:20260422T192927
CREATED:20240208T024733Z
LAST-MODIFIED:20240208T024733Z
UID:10000071-1707822000-1707825600@www.rinetworking.com
SUMMARY:Beginner Spanish for Realtors!
DESCRIPTION:Basic introduction to conversational Spanish to help realtors communicate with Spanish-speaking clients. Participants should bring something to take notes\, and should be prepared to speak\, both in English but also in Spanish. Most of the time will be spent in Spanish\, with some guidance of course in English. We will learn basics of grammar and vocabulary. Some simple but practical homework will be assigned regularly. There’s no pass/fail or any kind of judgment or grading\, but the goal will be for this to be a cumulative experience. Overall\, the course will last for about eight weeks\, then roll into a new cycle. Participants can join or leave anytime\, but to get the most out of it\, we suggest sticking with all eight weeks. The consistency will pay off!
URL:https://www.rinetworking.com/event/beginner-spanish-for-realtors/
LOCATION:Good Working coworking 585 Smithfield Road North Smithfield\, RI 02896 United States
CATEGORIES:SEMINARS
ATTACH;FMTTYPE=image/jpeg:https://www.rinetworking.com/wp-content/uploads/2024/02/Beginner-Spanish-for-Realtors.jpg
END:VEVENT
BEGIN:VEVENT
DTSTART;TZID=America/New_York:20240214T073000
DTEND;TZID=America/New_York:20240214T080000
DTSTAMP:20260422T192927
CREATED:20240208T022452Z
LAST-MODIFIED:20240208T022452Z
UID:10000068-1707895800-1707897600@www.rinetworking.com
SUMMARY:Trust Networking - Lincoln
DESCRIPTION:About this event\n\n\n\n\n\n\nTrust Networking – Lincoln \nJoin us for an exciting in-person weekly networking meeting in Lincoln! Connect with professionals from various industries and build valuable relationships. This event is a fantastic opportunity to expand your network and foster trust within the business community. \nDate: Wednesdays \nTime: 7:30-8:30 AM \nLocation: 12 Breakneck Hill Rd suite 100 \nDon’t miss out on this chance to meet like-minded individuals\, exchange ideas\, and explore potential collaborations. Whether you’re an entrepreneur\, freelancer\, or corporate professional\, Trust Networking – Lincoln is the perfect platform to enhance your professional network. Mark your calendar and get ready for a productive and enjoyable morning of networking!
URL:https://www.rinetworking.com/event/trust-networking-lincoln/
LOCATION:12 Breakneck Hill Rd suite 100  12 Breakneck Hill Road #suite 100 Lincoln\, RI 02865 United States
CATEGORIES:BUSINESS NETWORKING
ATTACH;FMTTYPE=image/jpeg:https://www.rinetworking.com/wp-content/uploads/2024/02/Trust-Networking-Lincoln.jpg
END:VEVENT
BEGIN:VEVENT
DTSTART;TZID=America/New_York:20240214T120000
DTEND;TZID=America/New_York:20240214T130000
DTSTAMP:20260422T192927
CREATED:20240208T023043Z
LAST-MODIFIED:20240208T023043Z
UID:10000069-1707912000-1707915600@www.rinetworking.com
SUMMARY:Trust Networking - North Kingstown
DESCRIPTION:Join us on Wednesdays from 12:00-1:00PM at our North Kingstown weekly networking meeting. Build connections and expand your network! \nLocation \n\n\n\n\n\n \n\n70 Romano Vineyard Way \n70 Romano Vineyard Way North Kingstown\, RI 02852 United States \nShow map\n\n\n\n\n\n\n\n\n\n\n\nAbout this event\n\n\n\n\n\n\nTrust Networking – North Kingstown \nJoin us for a weekly networking event in North Kingstown! Trust Networking is your chance to connect with like-minded individuals and build valuable relationships in a relaxed and friendly environment. \nDate: Wednesdays \nTime: 12:00-1:00PM \nLocation: 70 Romano Vineyard Way \nWhether you’re a seasoned professional or just starting out\, this event is perfect for expanding your network and discovering new opportunities. Don’t miss out on the chance to meet other professionals and expand your business network! \nAt Trust Networking\, you’ll have the opportunity to engage in meaningful conversations\, exchange ideas\, and gain insights from industry experts. With a focus on building trust and fostering genuine connections\, this event aims to create a supportive community that empowers individuals to thrive in the business world. \nSo mark your calendars and get ready to network like never before. Join us at Trust Networking – North Kingstown for an afternoon of valuable connections\, inspiring conversations\, and endless possibilities.
URL:https://www.rinetworking.com/event/trust-networking-north-kingstown/
LOCATION:70 Romano Vineyard Way  70 Romano Vineyard Way North Kingstown\, RI 02852 United States
CATEGORIES:BUSINESS NETWORKING
ATTACH;FMTTYPE=image/jpeg:https://www.rinetworking.com/wp-content/uploads/2024/02/Trust-Networking-North-Kingstown.jpg
END:VEVENT
BEGIN:VEVENT
DTSTART;TZID=America/New_York:20240217T090000
DTEND;TZID=America/New_York:20240217T100000
DTSTAMP:20260422T192927
CREATED:20240126T191612Z
LAST-MODIFIED:20240126T191612Z
UID:10000060-1708160400-1708164000@www.rinetworking.com
SUMMARY:Community Yoga Class
DESCRIPTION:This is a 60 minute yoga class suitable for beginners. Bring your yoga mat and water bottle. If you dont have one\, Job Lot is right next door\, where you can grab one inexpensively. Wear comfy clothes that you can move around in. Be prepared to do some light abdominal work\, bodyweight resistance and stretching. You’ll leave feeling strong and invigorated! \nAshley Sarji is passionate about sharing different forms of movement with the world. She feels called to help others realize the benefits of yoga\, in particular. She will complete her 200 hour Yoga Teacher Training certification with David Vendetti in March.
URL:https://www.rinetworking.com/event/community-yoga-class/
LOCATION:Good Working coworking 585 Smithfield Road North Smithfield\, RI 02896 United States
CATEGORIES:SEMINARS
ATTACH;FMTTYPE=image/png:https://www.rinetworking.com/wp-content/uploads/2024/01/Community-Yoga-Class.png
END:VEVENT
BEGIN:VEVENT
DTSTART;TZID=America/New_York:20240219T180000
DTEND;TZID=America/New_York:20240219T193000
DTSTAMP:20260422T192927
CREATED:20240208T025309Z
LAST-MODIFIED:20240208T025309Z
UID:10000072-1708365600-1708371000@www.rinetworking.com
SUMMARY:How to Invest in Real Estate For Beginners: Join Group
DESCRIPTION:Curious about real estate investing but don’t know where to start? The Gold Door Investors Club is opening its doors to beginners like you! Join our FREE introductory class designed specifically for newcomers eager to explore the rewarding world of real estate investment. No prior experience? No problem! This class is your first step towards understanding the basics and uncovering the potential of real estate as a powerful tool for wealth building. \n**What You Will Learn** \n– Real Estate Investing 101: Grasp the essential concepts and terminology of real estate investment in a beginner-friendly setting.\n– First Steps to Your First Investment: Discover how to begin your investment journey with practical advice and straightforward strategies.\n– Understanding the Market: Learn how to analyze the real estate market to identify your first investment opportunity.\n– Risk Management for Beginners: Get insights on how to minimize risks while maximizing your potential returns. \n**Why This Class Is for You** \nTailored for absolute beginners\, this class offers a supportive and informative environment where questions are encouraged\, and learning is made accessible. It’s not just a class—it’s your gateway to joining a community of aspiring investors and benefiting from ongoing support\, networking\, and exclusive insights offered by the Gold Door Investors Club. \nEvent Details: \nTime: 6pm to 7:30pm\nLocation: Good Working co-working\, 585 Smithfield Rd\, North Smithfield\, RI 02896\nAdmission: Free (Space is Limited)\nParking: Additional Parking at Stop & Shop \nSecure Your Spot Today! \nDon’t miss this opportunity to lay the foundation for your real estate investment success. Reserve your seat in our introductory class and take the first step towards turning your interest in real estate into actionable knowledge and future gains. \nJoin us to navigate the exciting path of real estate investment with confidence. Sign up now and unlock the door to your investment potential with the Gold Door Investors Club!
URL:https://www.rinetworking.com/event/how-to-invest-in-real-estate-for-beginners-join-group/
LOCATION:Good Working coworking 585 Smithfield Road North Smithfield\, RI 02896 United States
CATEGORIES:SEMINARS
ATTACH;FMTTYPE=image/jpeg:https://www.rinetworking.com/wp-content/uploads/2024/02/How-to-Invest-in-Real-Estate-For-Beginners-Join-Group.jpeg
END:VEVENT
BEGIN:VEVENT
DTSTART;TZID=America/New_York:20240220T080000
DTEND;TZID=America/New_York:20240220T100000
DTSTAMP:20260422T192927
CREATED:20240217T015657Z
LAST-MODIFIED:20240217T015657Z
UID:10000079-1708416000-1708423200@www.rinetworking.com
SUMMARY:Trust Networking - Cranston
DESCRIPTION:Join us for our weekly networking meeting! Build new connections and expand your professional network! \n\n\n\n\n\n\nLocation\n\n \n\n1000 Chapel View Boulevard\, Cranston\, RI\, USA \n1000 Chapel View Boulevard Cranston\, RI 02920 United States \n\n\n\n\n\n\n\n\n\n\n\n\nAbout this event\n\n\n\n\n\n\n\n\n\n\n\n\n\n\nTags\n\n\nUnited States Events\nRhode Island Events\nThings to do in Cranston\, RI\nCranston Networking\nCranston Business Networking\n#networking\n#networkingevent\n#cranston\n#businessnetworking
URL:https://www.rinetworking.com/event/trust-networking-cranston-2/
LOCATION:1000 Chapel View Boulevard Cranston\, RI 02920 United States
CATEGORIES:BUSINESS NETWORKING
ATTACH;FMTTYPE=image/jpeg:https://www.rinetworking.com/wp-content/uploads/2024/01/Trust-Networking-Cranston.jpg
END:VEVENT
BEGIN:VEVENT
DTSTART;TZID=America/New_York:20240220T180000
DTEND;TZID=America/New_York:20240220T200000
DTSTAMP:20260422T192927
CREATED:20240217T023747Z
LAST-MODIFIED:20240217T023747Z
UID:10000081-1708452000-1708459200@www.rinetworking.com
SUMMARY:Real Estate Deal Makers Premiere Networking Event- February
DESCRIPTION:Network with professionals that deal with all aspects of real estate from concept to sale at our premiere networking event!\nJoin us for an exciting opportunity to forge valuable connections with professionals across the entire spectrum of the real estate industry\, from concept to sale! Whether you’re a novice or a veteran in real estate industry\, whether your focus is on sales\,architecture\, building\, materials\, legal\, financial\, investing\, or any other aspect of the field\, this event is the perfect platform for you. \nOrganized by Jacob “The Connector\,” our Deal Makers Networking event is designed to unite professionals from all spheres – including agents\, architects\, brokers\, lenders\, investors\, attorneys\, accountants\, contractors\, and more. \nThis is your chance to expand your network\, discover insider tips\, and collaborate with both seasoned experts and rising stars in the industry! \nMark your calendar: \n📅 Date: Tuesday\, February 20th \n⏰ Time: 6 – 8 PM \n📍 Location: Circe Restaurant\, 50 Weybosset St\, Providence\, RI 02904 \nFor a ticket fee of just $15\, enjoy an evening of networking complemented by exquisite hors d’oeuvres \nSpecial thanks to our spotlight sponsor\, Know Solar with Joe Solar – Joe Moretti\, and our season sponsors: Providence Architecture & Building Co – Kevin Diamond\, Obsessed with Success Marketing – Dayna Mancini-Simmons\, Law Office of Cara B. Conaty\, Superior Comfort Inc -Jacob Ledsworth\, HouseMaster Home Inspection – Lisa Miranda\, Lathrop Insurance – James Kane\, Mortgage Equity Partners – David Frankel\, Marc Gertsacov ESQ – RCF&P Law\, Stonelink Property Management – Steve Stasiuk\, Cornerstone Commercial Capital – Bill Wallace\, and Crystal Waters Hot Tubs – Carol Benoit.
URL:https://www.rinetworking.com/event/real-estate-deal-makers-premiere-networking-event-february/
LOCATION:Circe Restaurant  50 Weybosset St Providence\, RI 02903 United States
CATEGORIES:BUSINESS NETWORKING
ATTACH;FMTTYPE=image/jpeg:https://www.rinetworking.com/wp-content/uploads/2024/02/Real-Estate-Deal-Makers-Premiere-Networking-Event-February.jpg
END:VEVENT
BEGIN:VEVENT
DTSTART;TZID=America/New_York:20240221T073000
DTEND;TZID=America/New_York:20240221T083000
DTSTAMP:20260422T192927
CREATED:20240217T014511Z
LAST-MODIFIED:20240217T014511Z
UID:10000078-1708500600-1708504200@www.rinetworking.com
SUMMARY:Trust Networking - Lincoln
DESCRIPTION:About this event\n\n\n\n\n\n\nTrust Networking – Lincoln \nJoin us for an exciting in-person weekly networking meeting in Lincoln! Connect with professionals from various industries and build valuable relationships. This event is a fantastic opportunity to expand your network and foster trust within the business community. \nDate: Wednesdays \nTime: 7:30-8:30 AM \nLocation: 12 Breakneck Hill Rd suite 100 \nDon’t miss out on this chance to meet like-minded individuals\, exchange ideas\, and explore potential collaborations. Whether you’re an entrepreneur\, freelancer\, or corporate professional\, Trust Networking – Lincoln is the perfect platform to enhance your professional network. Mark your calendar and get ready for a productive and enjoyable morning of networking!
URL:https://www.rinetworking.com/event/trust-networking-lincoln-2/
LOCATION:12 Breakneck Hill Road #suite 100 Lincoln\, RI 02865 United States
CATEGORIES:BUSINESS NETWORKING
ATTACH;FMTTYPE=image/jpeg:https://www.rinetworking.com/wp-content/uploads/2024/02/Trust-Networking-Lincoln.jpg
END:VEVENT
BEGIN:VEVENT
DTSTART;TZID=America/New_York:20240221T120000
DTEND;TZID=America/New_York:20240221T130000
DTSTAMP:20260422T192927
CREATED:20240217T013556Z
LAST-MODIFIED:20240217T013556Z
UID:10000077-1708516800-1708520400@www.rinetworking.com
SUMMARY:Trust Networking - North Kingstown
DESCRIPTION:About this event\n\n\n\n\n\n\nTrust Networking – North Kingstown \nJoin us for a weekly networking event in North Kingstown! Trust Networking is your chance to connect with like-minded individuals and build valuable relationships in a relaxed and friendly environment. \nDate: Wednesdays \nTime: 12:00-1:00PM \nLocation: 70 Romano Vineyard Way \nWhether you’re a seasoned professional or just starting out\, this event is perfect for expanding your network and discovering new opportunities. Don’t miss out on the chance to meet other professionals and expand your business network! \nAt Trust Networking\, you’ll have the opportunity to engage in meaningful conversations\, exchange ideas\, and gain insights from industry experts. With a focus on building trust and fostering genuine connections\, this event aims to create a supportive community that empowers individuals to thrive in the business world. \nSo mark your calendars and get ready to network like never before. Join us at Trust Networking – North Kingstown for an afternoon of valuable connections\, inspiring conversations\, and endless possibilities.
URL:https://www.rinetworking.com/event/trust-networking-north-kingstown-2/
LOCATION:70 Romano Vineyard Way North Kingstown\, RI 02852 United States
CATEGORIES:BUSINESS NETWORKING
ATTACH;FMTTYPE=image/jpeg:https://www.rinetworking.com/wp-content/uploads/2024/02/Trust-Networking-North-Kingstown-1.jpg
ORGANIZER;CN="Trust Networking":MAILTO:admin@trustnetworkinggroup.com
END:VEVENT
END:VCALENDAR