BEGIN:VCALENDAR
VERSION:2.0
PRODID:-//Rhode Island Business Networking - ECPv6.15.20//NONSGML v1.0//EN
CALSCALE:GREGORIAN
METHOD:PUBLISH
X-WR-CALNAME:Rhode Island Business Networking
X-ORIGINAL-URL:https://www.rinetworking.com
X-WR-CALDESC:Events for Rhode Island Business Networking
REFRESH-INTERVAL;VALUE=DURATION:PT1H
X-Robots-Tag:noindex
X-PUBLISHED-TTL:PT1H
BEGIN:VTIMEZONE
TZID:America/New_York
BEGIN:DAYLIGHT
TZOFFSETFROM:-0500
TZOFFSETTO:-0400
TZNAME:EDT
DTSTART:20230312T070000
END:DAYLIGHT
BEGIN:STANDARD
TZOFFSETFROM:-0400
TZOFFSETTO:-0500
TZNAME:EST
DTSTART:20231105T060000
END:STANDARD
BEGIN:DAYLIGHT
TZOFFSETFROM:-0500
TZOFFSETTO:-0400
TZNAME:EDT
DTSTART:20240310T070000
END:DAYLIGHT
BEGIN:STANDARD
TZOFFSETFROM:-0400
TZOFFSETTO:-0500
TZNAME:EST
DTSTART:20241103T060000
END:STANDARD
BEGIN:DAYLIGHT
TZOFFSETFROM:-0500
TZOFFSETTO:-0400
TZNAME:EDT
DTSTART:20250309T070000
END:DAYLIGHT
BEGIN:STANDARD
TZOFFSETFROM:-0400
TZOFFSETTO:-0500
TZNAME:EST
DTSTART:20251102T060000
END:STANDARD
END:VTIMEZONE
BEGIN:VEVENT
DTSTART;TZID=America/New_York:20240118T190000
DTEND;TZID=America/New_York:20240119T000000
DTSTAMP:20260420T214149
CREATED:20231228T122354Z
LAST-MODIFIED:20231228T122354Z
UID:10000047-1705604400-1705622400@www.rinetworking.com
SUMMARY:Game Night Extravaganza: Jackbox\, Fun\, and Bar Afterparty
DESCRIPTION:Get ready for an epic evening of gaming and socializing. This is a 21 and over event! Join us at the state-of-the-art event room at the “Good Working” North Smithfield’s premier coworking space. \nEvent Highlights: \n– Jackbox* Game Night: Immerse yourself in the world of Jackbox games and meet other fellow gamers. Test your wits\, unleash your creativity\, and enjoy a night of hilarious competition. \n– Complimentary Refreshments: “Good Working” offers a selection of complimentary beverages\, including water\, soda\, and coffee\, to keep you refreshed throughout the event. \n– Bar Afterparty: But the fun doesn’t end there! After the games\, we’ll head to the local bar for drinks and more gaming excitement. Sip on your favorite beverages and continue the gaming festivities into the night. \nThis 21+ event promises an unforgettable night of laughter\, gaming\, and great company. Grab your friends\, unlock your competitive spirit\, and let’s make lasting memories together! \nStay tuned for updates and ticket information. We look forward to seeing you there! \n*Jackbox Games is a series of party video games developed by Jackbox Games\, Inc. They are designed for multiplayer fun\, especially in social settings like parties\, gatherings\, or game nights. What sets Jackbox Games apart is that they are played using smartphones\, tablets\, or computers as controllers\, making it accessible and interactive for a wide range of players.
URL:https://www.rinetworking.com/event/game-night-extravaganza-jackbox-fun-and-bar-afterparty/
LOCATION:Good Working coworking 585 Smithfield Road North Smithfield\, RI 02896 United States
CATEGORIES:SOCIAL EVENTS
ATTACH;FMTTYPE=image/png:https://www.rinetworking.com/wp-content/uploads/2023/12/Jackbox-game-TV-optimized-Kamil-Sarji.png
END:VEVENT
BEGIN:VEVENT
DTSTART;TZID=America/New_York:20240122T170000
DTEND;TZID=America/New_York:20240122T193000
DTSTAMP:20260420T214149
CREATED:20240116T183304Z
LAST-MODIFIED:20240116T183304Z
UID:10000054-1705942800-1705951800@www.rinetworking.com
SUMMARY:MOMENTUM and TRUST NETWORKING January 22 2024
DESCRIPTION:Southeast New England’s longest running open networking event brings in great business people from RI\, Massachusetts and beyond. MOMENTUM NETWORKING is open to all business people- no memberships required. There will be free parking\, free appetizers and a cash bar. Bring lots of business cards!
URL:https://www.rinetworking.com/event/momentum-and-trust-networking-january-22-2024/
LOCATION:Towne Tavern and Tap  11 Robert Toner Blvd North Attleboro\, MA 02763
CATEGORIES:BUSINESS NETWORKING
ATTACH;FMTTYPE=image/png:https://www.rinetworking.com/wp-content/uploads/2024/01/trustmomentum.png
GEO:41.5800945;-71.4774291
END:VEVENT
BEGIN:VEVENT
DTSTART;TZID=America/New_York:20240123T170000
DTEND;TZID=America/New_York:20240123T190000
DTSTAMP:20260420T214149
CREATED:20240112T020755Z
LAST-MODIFIED:20240112T022604Z
UID:10000051-1706029200-1706036400@www.rinetworking.com
SUMMARY:Trust Networking After Hours
DESCRIPTION:Our Hanover group invites you for networking and drinks! Whether you’re looking to expand your professional network\, explore new career opportunities\, or simply enjoy a fun evening with like-minded individuals\, this event is for you. \nDate: Tue Jan 23 2024 \nTime: 5:00 PM – 7:00 PM (Eastern Standard Time) \nLocation: ALBA on 53\, Washington Street\, Hanover\, MA\, USA \nAt Trust Networking After Hours\, you’ll have the chance to meet and mingle with professionals from various industries. Engage in meaningful conversations\, exchange ideas\, and build valuable connections. This event is designed to foster a relaxed and welcoming atmosphere\, making it easier for you to connect with others. \nJoin us at Trust Networking After Hours and take your professional network to the next level. We look forward to seeing you there!
URL:https://www.rinetworking.com/event/trust-networking-after-hours/
LOCATION:ALBA on 53\, Washington Street\, Hanover\, MA\, USA  2053 Washington Street Hanover\, MA 02339 United States
CATEGORIES:BUSINESS NETWORKING
ATTACH;FMTTYPE=image/jpeg:https://www.rinetworking.com/wp-content/uploads/2024/01/Trust-Networking-After-Hours.jpg
END:VEVENT
BEGIN:VEVENT
DTSTART;TZID=America/New_York:20240123T170000
DTEND;TZID=America/New_York:20240123T190000
DTSTAMP:20260420T214149
CREATED:20231208T011350Z
LAST-MODIFIED:20231208T011350Z
UID:10000043-1706029200-1706036400@www.rinetworking.com
SUMMARY:BUSINESS IS BREWING: NETWORKING POP-UP
DESCRIPTION: Goal: Take Networking to the Next Level \n Action: Attend & introduce yourself to 3 individuals that you don’t know \n Result: Build relationships that will generate new customers/clients \nOur Women’s Business Council & Emerging Leaders team up for a night of joint networking at Narragansett Brewing Co. Join us as we reconnect\, and celebrate the new year. You can find more information about our Women’s Business Council at www.nrichamber.com/wbc and more information about our Emerging Leaders program at www.nrichamber.com/emerging-leaders \nCommunity Support: \n$25.00 Mystery Bags will be available with proceeds going to support the efforts of Chamber member We Share Hope in fighting food insecurity.
URL:https://www.rinetworking.com/event/business-is-brewing-networking-pop-up/
LOCATION:Narragansett Brewing Company 271 Tockwotton Street Providence\, RI 02903 United States
CATEGORIES:BUSINESS NETWORKING
ATTACH;FMTTYPE=image/png:https://www.rinetworking.com/wp-content/uploads/2023/12/BUSINESS-IS-BREWING-NETWORKING-POP-UP.png
END:VEVENT
BEGIN:VEVENT
DTSTART;TZID=America/New_York:20240124T173000
DTEND;TZID=America/New_York:20240124T200000
DTSTAMP:20260420T214149
CREATED:20240116T183904Z
LAST-MODIFIED:20240116T183904Z
UID:10000055-1706117400-1706126400@www.rinetworking.com
SUMMARY:January Networking Event
DESCRIPTION:You never know where your next client or referral partner may come from. Opportunity is everywhere. Who do YOU want to meet? We can help. \n\n\nJanuary Networking Event @ Chapel Grille\, Chapel View Blvd\, Cranston \nGet ready to build your network and your business because this is one of our most popular events of the year. A perfect opportunity for you to start 2024 successfully by meeting new people\, making valuable connections\, getting to know local influencers\, and expanding your professional network. \nEnjoy delicious complimentary appetizers while mingling in a relaxed and welcoming environment. Whether you’re looking for new job opportunities\, business partnerships\, or simply want to socialize with other professionals\, you’ll want to be here. \nWant to streamline the process? Let us know who you’d like to meet. We are happy to make some introductions for you at the event because the truth is… It’s not just about what you know\, or even who you know – but WHO KNOWS YOU! \nSo\, mark your calendar\, secure your ticket and tell some friends. If your a frequent guest\, we look forward to seeing you on the 24th – if you’re new to our events – we look forward to connecting with you there. \nEasily accessible off RTE 95 & 295. Parking is Free. \nTickets are limited – Be sure to get yours’ today! \nPat Cruz Events is Celebrating 14 Years of Successfully Connecting People Through Popular Monthly Networking Events. Our network would love to meet YOU!
URL:https://www.rinetworking.com/event/january-networking-event/
LOCATION:Chapel Grille\, Chapel View Boulevard\, Cranston\, RI\, USA  3000 Chapel View Boulevard Cranston\, RI 02920 United States
CATEGORIES:BUSINESS NETWORKING
ATTACH;FMTTYPE=image/jpeg:https://www.rinetworking.com/wp-content/uploads/2024/01/January-Networking-Event.jpg
END:VEVENT
END:VCALENDAR