BEGIN:VCALENDAR
VERSION:2.0
PRODID:-//Rhode Island Business Networking - ECPv6.15.20//NONSGML v1.0//EN
CALSCALE:GREGORIAN
METHOD:PUBLISH
X-ORIGINAL-URL:https://www.rinetworking.com
X-WR-CALDESC:Events for Rhode Island Business Networking
REFRESH-INTERVAL;VALUE=DURATION:PT1H
X-Robots-Tag:noindex
X-PUBLISHED-TTL:PT1H
BEGIN:VTIMEZONE
TZID:America/New_York
BEGIN:DAYLIGHT
TZOFFSETFROM:-0500
TZOFFSETTO:-0400
TZNAME:EDT
DTSTART:20250309T070000
END:DAYLIGHT
BEGIN:STANDARD
TZOFFSETFROM:-0400
TZOFFSETTO:-0500
TZNAME:EST
DTSTART:20251102T060000
END:STANDARD
BEGIN:DAYLIGHT
TZOFFSETFROM:-0500
TZOFFSETTO:-0400
TZNAME:EDT
DTSTART:20260308T070000
END:DAYLIGHT
BEGIN:STANDARD
TZOFFSETFROM:-0400
TZOFFSETTO:-0500
TZNAME:EST
DTSTART:20261101T060000
END:STANDARD
BEGIN:DAYLIGHT
TZOFFSETFROM:-0500
TZOFFSETTO:-0400
TZNAME:EDT
DTSTART:20270314T070000
END:DAYLIGHT
BEGIN:STANDARD
TZOFFSETFROM:-0400
TZOFFSETTO:-0500
TZNAME:EST
DTSTART:20271107T060000
END:STANDARD
END:VTIMEZONE
BEGIN:VEVENT
DTSTART;TZID=America/New_York:20260708T180000
DTEND;TZID=America/New_York:20260708T210000
DTSTAMP:20260423T195510
CREATED:20260423T170316Z
LAST-MODIFIED:20260423T170316Z
UID:10000305-1783533600-1783544400@www.rinetworking.com
SUMMARY:YPN Mid-Summer Social
DESCRIPTION:Event by RI Realtors Young Professionals Network\n\n\n\n\n\n\n\n\n\n\n\n\n\n\nBlu On The Water\n20 Water St\, East Greenwich\, RI 02818-3907\, United States\n\n\n\n\n\n\n\n\n\n\n\n\n\n\nDuration: 3 hr\n\n\n\n\n\n\n\n\n\n\n\nPublic  · Anyone on or off Facebook\n\n\n\n\n\n\n\n\nJoin RI REALTORS® YPN and the Residential Real Estate Council – New England Region for a Mid-Summer Mixer you won’t want to miss! \n Blu on the Water\, East Greenwich\, RI (South side bar or under the tent if the weather plays tricks on us! ) July 8th 6 PM – 9 PM Complimentary apps | Cash bar | Firepits |  Glow sticks\nEnjoy a beautiful summer evening of networking around the firepit\, waterfront vibes\, and connecting with fellow real estate industry professionals. Whether it’s sunshine or sprinkles\, we’re on rain or shine!\n#YPNRI #MidSummerSocial #RRCNewEngland #RealEstateNetworking #BluOnTheWater #RIRealtors \nSee less
URL:https://www.rinetworking.com/event/ypn-mid-summer-social/
LOCATION:Blu On The Water 20 Water St\, East Greenwich\, RI 02818-3907\, United States
CATEGORIES:BUSINESS NETWORKING
ATTACH;FMTTYPE=image/jpeg:https://www.rinetworking.com/wp-content/uploads/2026/04/YPN-Mid-Summer-Social.jpg
END:VEVENT
END:VCALENDAR