BEGIN:VCALENDAR
VERSION:2.0
PRODID:-//Rhode Island Business Networking - ECPv6.15.20//NONSGML v1.0//EN
CALSCALE:GREGORIAN
METHOD:PUBLISH
X-ORIGINAL-URL:https://www.rinetworking.com
X-WR-CALDESC:Events for Rhode Island Business Networking
REFRESH-INTERVAL;VALUE=DURATION:PT1H
X-Robots-Tag:noindex
X-PUBLISHED-TTL:PT1H
BEGIN:VTIMEZONE
TZID:America/New_York
BEGIN:DAYLIGHT
TZOFFSETFROM:-0500
TZOFFSETTO:-0400
TZNAME:EDT
DTSTART:20250309T070000
END:DAYLIGHT
BEGIN:STANDARD
TZOFFSETFROM:-0400
TZOFFSETTO:-0500
TZNAME:EST
DTSTART:20251102T060000
END:STANDARD
BEGIN:DAYLIGHT
TZOFFSETFROM:-0500
TZOFFSETTO:-0400
TZNAME:EDT
DTSTART:20260308T070000
END:DAYLIGHT
BEGIN:STANDARD
TZOFFSETFROM:-0400
TZOFFSETTO:-0500
TZNAME:EST
DTSTART:20261101T060000
END:STANDARD
BEGIN:DAYLIGHT
TZOFFSETFROM:-0500
TZOFFSETTO:-0400
TZNAME:EDT
DTSTART:20270314T070000
END:DAYLIGHT
BEGIN:STANDARD
TZOFFSETFROM:-0400
TZOFFSETTO:-0500
TZNAME:EST
DTSTART:20271107T060000
END:STANDARD
END:VTIMEZONE
BEGIN:VEVENT
DTSTART;TZID=America/New_York:20260610T180000
DTEND;TZID=America/New_York:20260610T210000
DTSTAMP:20260423T175321
CREATED:20260423T165706Z
LAST-MODIFIED:20260423T165706Z
UID:10000304-1781114400-1781125200@www.rinetworking.com
SUMMARY:YPN Hawaiian Happy Hour
DESCRIPTION:Event by RI Realtors Young Professionals Network\n\n\n\n\n\n\n\n\n\n\n\n\n\nChelo’s Waterfront Bar & Grille\n1 Masthead Dr\, Warwick\, RI 02886-9201\, United States\n\n\n\n\n\n\n\n\n\n\n\n\n\nDuration: 3 hr\n\n\n\n\n\n\n\n\n\n\n\nPublic  · Anyone on or off Facebook\n\n\n\n\n\n\n\nSay Aloha to Summer with YPN! Join us for a tropical-themed Hawaiian Happy Hour on Wednesday\, June 10th from 6–9 PM at Chelo’s on the Water. Enjoy island vibes\, networking\, and a laid-back evening with fellow real estate professionals overlooking the beautiful waterfront. Wear your best Hawaiian attire and get ready for fun\, food\, and good company—YPN style!
URL:https://www.rinetworking.com/event/ypn-hawaiian-happy-hour/
LOCATION:Chelo’s Waterfront Bar & Grille 1 Masthead Dr\, Warwick\, RI 02886-9201\, United States
CATEGORIES:BUSINESS NETWORKING
ATTACH;FMTTYPE=image/jpeg:https://www.rinetworking.com/wp-content/uploads/2026/04/YPN-Hawaiian-Happy-Hour.jpg
END:VEVENT
BEGIN:VEVENT
DTSTART;TZID=America/New_York:20260617T083000
DTEND;TZID=America/New_York:20260617T093000
DTSTAMP:20260423T175321
CREATED:20260423T171010Z
LAST-MODIFIED:20260423T171010Z
UID:10000306-1781685000-1781688600@www.rinetworking.com
SUMMARY:The Heart of Rhode Island Networking & Referral Group
DESCRIPTION:CIC ProvidenceProvidence\, RI \nWednesday\, June 17  •  8 AM – 9:45 AM\n\n\n\n\n\n\n\nOverview\n\n\n\nBring your cards\, your best self & your networking hat!! 150 seats\, always sold out. Let’s build community\, one connection at a time. ☕️ \n\n\n\n\nThe Heart of Rhode Island was founded in March 2022\, and it is STILL going strong! \nWith 150+ attendees each month and a sell-out streak since September 2023\, this gathering has become Rhode Island’s go-to space for authentic connection\, community\, and collaboration. \nLed by me and our incredible Heart of RI Committee:\nCathy Andreozzi\, Dawn Apajee\, Mark Berger\, Aaron Bishop\, Michael Cabral\, Elizabeth Hamilton\, Xander Honor\, Lisa Jones\, Sarah McCooey\, Stephanie McNamara\, John Pagliarini\, Stacey Silva\, and Bridget VanDemark! \nThis is where real relationships begin\nWhere ideas come to life\nAnd where Rhode Island’s changemakers unite \nOur June 17th Heart of Rhode Island Breakfast is proudly sponsored by: \nTracy Cahill and Equitable Advisors \nThank you for your commitment to this community and for helping us continue to create a space where meaningful connections thrive! \nWe’re also incredibly thankful to our generous hosts at CIC Providence: special thanks to Noah Yandow\, and the entire CIC team for always welcoming us with open arms. \nAnd of course… a HUGE thank-you to Fundati Coffee and Alicia DeCastro for fueling our mornings with locally roasted warmth and heart ☕💙 \nAnd to Maria Torres and All Seasons Catering for providing a delicious breakfast that brings us all together around the table! Your partnership helps set the tone for connection from the very first moment! \nNew to Heart of RI? \nWhether you’re looking to grow your network\, build your business\, explore partnerships\, or simply connect with kind\, driven people\, this is the place. \nCome as you are.\nLeave inspired\, energized\, and empowered. \nParking Tips for CIC Providence: \n• Richmond Garage – 280 Richmond Street (4-minute walk)\n• South Street Landing – 330 Eddy Street (5-minute walk)\n• Clifford Garage – 75 Clifford Street (2-minute walk)\n• Or park across the Point Street Bridge and enjoy a brisk walk to start your day with intention! \nPlease note: All tickets are nonrefundable and nontransferable. If the event sells out\, your spot will be offered to the next person on the waitlist. \nWe can’t wait to see you on June 17th 💙 \n#HeartOfRhodeIsland #NetworkingWithHeart #CommunityFirst #RIEvents #ConnectionMatters #EquitableAdvisors
URL:https://www.rinetworking.com/event/the-heart-of-rhode-island-networking-referral-group/
LOCATION:CIC Providence  225 Dyer Street Providence\, RI 02903 United States
CATEGORIES:BUSINESS NETWORKING
ATTACH;FMTTYPE=image/jpeg:https://www.rinetworking.com/wp-content/uploads/2024/03/Heart-of-Rhode-Island-Networking-Referral-Group.jpg
END:VEVENT
BEGIN:VEVENT
DTSTART;TZID=America/New_York:20260708T180000
DTEND;TZID=America/New_York:20260708T210000
DTSTAMP:20260423T175321
CREATED:20260423T170316Z
LAST-MODIFIED:20260423T170316Z
UID:10000305-1783533600-1783544400@www.rinetworking.com
SUMMARY:YPN Mid-Summer Social
DESCRIPTION:Event by RI Realtors Young Professionals Network\n\n\n\n\n\n\n\n\n\n\n\n\n\n\nBlu On The Water\n20 Water St\, East Greenwich\, RI 02818-3907\, United States\n\n\n\n\n\n\n\n\n\n\n\n\n\n\nDuration: 3 hr\n\n\n\n\n\n\n\n\n\n\n\nPublic  · Anyone on or off Facebook\n\n\n\n\n\n\n\n\nJoin RI REALTORS® YPN and the Residential Real Estate Council – New England Region for a Mid-Summer Mixer you won’t want to miss! \n Blu on the Water\, East Greenwich\, RI (South side bar or under the tent if the weather plays tricks on us! ) July 8th 6 PM – 9 PM Complimentary apps | Cash bar | Firepits |  Glow sticks\nEnjoy a beautiful summer evening of networking around the firepit\, waterfront vibes\, and connecting with fellow real estate industry professionals. Whether it’s sunshine or sprinkles\, we’re on rain or shine!\n#YPNRI #MidSummerSocial #RRCNewEngland #RealEstateNetworking #BluOnTheWater #RIRealtors \nSee less
URL:https://www.rinetworking.com/event/ypn-mid-summer-social/
LOCATION:Blu On The Water 20 Water St\, East Greenwich\, RI 02818-3907\, United States
CATEGORIES:BUSINESS NETWORKING
ATTACH;FMTTYPE=image/jpeg:https://www.rinetworking.com/wp-content/uploads/2026/04/YPN-Mid-Summer-Social.jpg
END:VEVENT
END:VCALENDAR