BEGIN:VCALENDAR
VERSION:2.0
PRODID:-//Rhode Island Business Networking - ECPv6.15.20//NONSGML v1.0//EN
CALSCALE:GREGORIAN
METHOD:PUBLISH
X-ORIGINAL-URL:https://www.rinetworking.com
X-WR-CALDESC:Events for Rhode Island Business Networking
REFRESH-INTERVAL;VALUE=DURATION:PT1H
X-Robots-Tag:noindex
X-PUBLISHED-TTL:PT1H
BEGIN:VTIMEZONE
TZID:America/New_York
BEGIN:DAYLIGHT
TZOFFSETFROM:-0500
TZOFFSETTO:-0400
TZNAME:EDT
DTSTART:20240310T070000
END:DAYLIGHT
BEGIN:STANDARD
TZOFFSETFROM:-0400
TZOFFSETTO:-0500
TZNAME:EST
DTSTART:20241103T060000
END:STANDARD
BEGIN:DAYLIGHT
TZOFFSETFROM:-0500
TZOFFSETTO:-0400
TZNAME:EDT
DTSTART:20250309T070000
END:DAYLIGHT
BEGIN:STANDARD
TZOFFSETFROM:-0400
TZOFFSETTO:-0500
TZNAME:EST
DTSTART:20251102T060000
END:STANDARD
BEGIN:DAYLIGHT
TZOFFSETFROM:-0500
TZOFFSETTO:-0400
TZNAME:EDT
DTSTART:20260308T070000
END:DAYLIGHT
BEGIN:STANDARD
TZOFFSETFROM:-0400
TZOFFSETTO:-0500
TZNAME:EST
DTSTART:20261101T060000
END:STANDARD
END:VTIMEZONE
BEGIN:VEVENT
DTSTART;TZID=America/New_York:20250318T173000
DTEND;TZID=America/New_York:20250318T200000
DTSTAMP:20260425T173055
CREATED:20250307T175243Z
LAST-MODIFIED:20250307T175243Z
UID:10000217-1742319000-1742328000@www.rinetworking.com
SUMMARY:Victory Networking Professionals After Hours Event
DESCRIPTION:Join us for an open professional networking event with cash bar hosted by Victory Networking. \n\nAbout this event\n\n\n\n\n\n\nCalling all business professionals\, entrepreneurs\, and industry leaders! Join us for an evening of valuable connections\, professional growth\, and new opportunities at Victory Networking’s After-Hours Event. Hosted by Victory Networking\, this event is designed to help you expand your network\, exchange ideas\, and celebrate success in a welcoming and engaging atmosphere. \n📍 Location: River Falls Restaurant\, Woonsocket \n🍸 Cash Bar Available \nWe’re meeting at River Falls to provide a relaxed and inviting setting where you can: \n✅ Connect with like-minded professionals and potential collaborators \n✅ Share your expertise and learn from others in your industry \n✅ Discover new business opportunities and partnerships \n✅ Enhance your personal brand by practicing your 60-second elevator pitch \n✅ Expand your reach—bring business cards to make lasting impressions Whether you’re looking to grow your business\, gain new insights\, or simply unwind and meet new people\, this event is a valuable investment in your professional success. Victory Networking—where winners go to network.
URL:https://www.rinetworking.com/event/victory-networking-professionals-after-hours-event/
LOCATION:River Falls  74 South Main Street Woonsocket\, RI 02895 United States
CATEGORIES:BUSINESS NETWORKING
ATTACH;FMTTYPE=image/jpeg:https://www.rinetworking.com/wp-content/uploads/2025/03/Victory-Networking-Professionals-After-Hours-Meet-Up.jpg
END:VEVENT
END:VCALENDAR