BEGIN:VCALENDAR
VERSION:2.0
PRODID:-//Rhode Island Business Networking - ECPv6.15.20//NONSGML v1.0//EN
CALSCALE:GREGORIAN
METHOD:PUBLISH
X-WR-CALNAME:Rhode Island Business Networking
X-ORIGINAL-URL:https://www.rinetworking.com
X-WR-CALDESC:Events for Rhode Island Business Networking
REFRESH-INTERVAL;VALUE=DURATION:PT1H
X-Robots-Tag:noindex
X-PUBLISHED-TTL:PT1H
BEGIN:VTIMEZONE
TZID:America/New_York
BEGIN:DAYLIGHT
TZOFFSETFROM:-0500
TZOFFSETTO:-0400
TZNAME:EDT
DTSTART:20230312T070000
END:DAYLIGHT
BEGIN:STANDARD
TZOFFSETFROM:-0400
TZOFFSETTO:-0500
TZNAME:EST
DTSTART:20231105T060000
END:STANDARD
BEGIN:DAYLIGHT
TZOFFSETFROM:-0500
TZOFFSETTO:-0400
TZNAME:EDT
DTSTART:20240310T070000
END:DAYLIGHT
BEGIN:STANDARD
TZOFFSETFROM:-0400
TZOFFSETTO:-0500
TZNAME:EST
DTSTART:20241103T060000
END:STANDARD
BEGIN:DAYLIGHT
TZOFFSETFROM:-0500
TZOFFSETTO:-0400
TZNAME:EDT
DTSTART:20250309T070000
END:DAYLIGHT
BEGIN:STANDARD
TZOFFSETFROM:-0400
TZOFFSETTO:-0500
TZNAME:EST
DTSTART:20251102T060000
END:STANDARD
END:VTIMEZONE
BEGIN:VEVENT
DTSTART;TZID=America/New_York:20240814T170000
DTEND;TZID=America/New_York:20240814T190000
DTSTAMP:20260422T094313
CREATED:20240510T001123Z
LAST-MODIFIED:20240510T001228Z
UID:10000132-1723654800-1723662000@www.rinetworking.com
SUMMARY:BUSINESS IS BREWING: NETWORKING POP-UP
DESCRIPTION:Northern Rhode Island Chamber of Commerce is Rhode Island’s leading business advocacy & professional networking organization; working to convene local leaders to promote and protect the interests of our members & the greater business community in Rhode Island. We are recognized experts helping members of all sizes find meaningful growth\, connections\, & success. \n  \nPricing\nNRICC Members – 20.00Non-Members – 30.00 \n\nProvidence Brewing Company\n10 Sims Avenue – Unit 110\nProvidence\, RI 02909 United States\n\n\nEvent Contact\nNorthern Rhode Island Chamber of Commerce\n(401) 334-1000\nSend Email\nWednesday\, August 14\, 2024 (5:00 PM – 7:00 PM) (EDT)\nCategories\nNetworking at Night
URL:https://www.rinetworking.com/event/business-is-brewing-networking-pop-up-2/
LOCATION:Providence Brewing Company 10 Sims Avenue – Unit 110 Providence\, RI 02909 United States
CATEGORIES:BUSINESS NETWORKING
ATTACH;FMTTYPE=image/jpeg:https://www.rinetworking.com/wp-content/uploads/2024/05/BUSINESS-IS-BREWING-NETWORKING-POP-UP.jpg
GEO:41.8270445;-71.4335016
END:VEVENT
BEGIN:VEVENT
DTSTART;TZID=America/New_York:20240814T170000
DTEND;TZID=America/New_York:20240814T190000
DTSTAMP:20260422T094313
CREATED:20240601T013542Z
LAST-MODIFIED:20240601T013542Z
UID:10000139-1723654800-1723662000@www.rinetworking.com
SUMMARY:BUSINESS IS BREWING: NETWORKING POP-UP
DESCRIPTION:Description\nNETWORKING POP – UP\nBUSINESS IS\nBREWING \nNORTHER RHODE ISLAND\nCHAMBER OF COMMERCE \nRHODE ISLAND\nHISPANIC\nCHAMBER OF COMMERCE\nIntegrity Progress Inclusion \nWednesday\, August 14\n5-7 pm\nProvidence Brewing Company \nPricing \nNRICC Members – 20.00 \nNon-Members – 30.00 \nProvidence Brewing Company\n10 Sims Avenue – Unit 110\nProvidence\, RI 02909 United States \nSponsored by:\nCoastal1 CREDIT UNION\nThe smarter way to bank
URL:https://www.rinetworking.com/event/business-is-brewing-networking-pop-up-3/
LOCATION:Providence Brewing Company 10 Sims Avenue – Unit 110 Providence\, RI 02909 United States
CATEGORIES:BUSINESS NETWORKING
ATTACH;FMTTYPE=image/png:https://www.rinetworking.com/wp-content/uploads/2024/05/BUSINESS-IS-BREWING-NETWORKING-POP-UP.png
GEO:41.8270445;-71.4335016
END:VEVENT
END:VCALENDAR