BEGIN:VCALENDAR
VERSION:2.0
PRODID:-//Rhode Island Business Networking - ECPv6.15.20//NONSGML v1.0//EN
CALSCALE:GREGORIAN
METHOD:PUBLISH
X-WR-CALNAME:Rhode Island Business Networking
X-ORIGINAL-URL:https://www.rinetworking.com
X-WR-CALDESC:Events for Rhode Island Business Networking
REFRESH-INTERVAL;VALUE=DURATION:PT1H
X-Robots-Tag:noindex
X-PUBLISHED-TTL:PT1H
BEGIN:VTIMEZONE
TZID:America/New_York
BEGIN:DAYLIGHT
TZOFFSETFROM:-0500
TZOFFSETTO:-0400
TZNAME:EDT
DTSTART:20230312T070000
END:DAYLIGHT
BEGIN:STANDARD
TZOFFSETFROM:-0400
TZOFFSETTO:-0500
TZNAME:EST
DTSTART:20231105T060000
END:STANDARD
BEGIN:DAYLIGHT
TZOFFSETFROM:-0500
TZOFFSETTO:-0400
TZNAME:EDT
DTSTART:20240310T070000
END:DAYLIGHT
BEGIN:STANDARD
TZOFFSETFROM:-0400
TZOFFSETTO:-0500
TZNAME:EST
DTSTART:20241103T060000
END:STANDARD
BEGIN:DAYLIGHT
TZOFFSETFROM:-0500
TZOFFSETTO:-0400
TZNAME:EDT
DTSTART:20250309T070000
END:DAYLIGHT
BEGIN:STANDARD
TZOFFSETFROM:-0400
TZOFFSETTO:-0500
TZNAME:EST
DTSTART:20251102T060000
END:STANDARD
END:VTIMEZONE
BEGIN:VEVENT
DTSTART;TZID=America/New_York:20240625T173000
DTEND;TZID=America/New_York:20240625T203000
DTSTAMP:20260421T122704
CREATED:20240525T004052Z
LAST-MODIFIED:20240525T004052Z
UID:10000135-1719336600-1719347400@www.rinetworking.com
SUMMARY:Cigar Business Networking Event hosted by The Den Networking
DESCRIPTION:Experience networking with industry leaders in an upscale setting. Enjoy premium cigars\, fine spirits\, and establish valuable connections \nWelcome to the Cigar Business Networking Event hosted by The Den Networking! Join us for an evening of networking\, relaxation\, and good cigars at the Cedar Spill Cigar Lounge. Connect with fellow cigar enthusiasts and professionals in a laid-back atmosphere perfect for making new connections. Whether you’re a seasoned cigar aficionado or just starting out\, this event is the perfect opportunity to expand your network and enjoy a good smoke. Don’t miss out on this unique networking experience!
URL:https://www.rinetworking.com/event/cigar-business-networking-event-hosted-by-the-den-networking/
LOCATION:Cedar Spill Cigar Lounge  566 Putnam Pike Smithfield\, RI 02828 United States
CATEGORIES:BUSINESS NETWORKING
ATTACH;FMTTYPE=image/jpeg:https://www.rinetworking.com/wp-content/uploads/2024/05/Cigar-Business-Networking-Event-hosted-by-The-Den-Networking.jpg
END:VEVENT
END:VCALENDAR