BEGIN:VCALENDAR
VERSION:2.0
PRODID:-//Rhode Island Business Networking - ECPv6.15.20//NONSGML v1.0//EN
CALSCALE:GREGORIAN
METHOD:PUBLISH
X-ORIGINAL-URL:https://www.rinetworking.com
X-WR-CALDESC:Events for Rhode Island Business Networking
REFRESH-INTERVAL;VALUE=DURATION:PT1H
X-Robots-Tag:noindex
X-PUBLISHED-TTL:PT1H
BEGIN:VTIMEZONE
TZID:America/New_York
BEGIN:DAYLIGHT
TZOFFSETFROM:-0500
TZOFFSETTO:-0400
TZNAME:EDT
DTSTART:20240310T070000
END:DAYLIGHT
BEGIN:STANDARD
TZOFFSETFROM:-0400
TZOFFSETTO:-0500
TZNAME:EST
DTSTART:20241103T060000
END:STANDARD
BEGIN:DAYLIGHT
TZOFFSETFROM:-0500
TZOFFSETTO:-0400
TZNAME:EDT
DTSTART:20250309T070000
END:DAYLIGHT
BEGIN:STANDARD
TZOFFSETFROM:-0400
TZOFFSETTO:-0500
TZNAME:EST
DTSTART:20251102T060000
END:STANDARD
BEGIN:DAYLIGHT
TZOFFSETFROM:-0500
TZOFFSETTO:-0400
TZNAME:EDT
DTSTART:20260308T070000
END:DAYLIGHT
BEGIN:STANDARD
TZOFFSETFROM:-0400
TZOFFSETTO:-0500
TZNAME:EST
DTSTART:20261101T060000
END:STANDARD
END:VTIMEZONE
BEGIN:VEVENT
DTSTART;TZID=America/New_York:20250228T083000
DTEND;TZID=America/New_York:20250228T100000
DTSTAMP:20260419T173604
CREATED:20250214T163115Z
LAST-MODIFIED:20250214T163115Z
UID:10000211-1740731400-1740736800@www.rinetworking.com
SUMMARY:Last Friday Coffee - Business Networking
DESCRIPTION:Date and time\n\n\n\nFriday\, February 28 · 8:30 – 10am EST\n\n\n\n\n\n\n\n\n\n\n\n\n\nLocation\n\n\nQuonset Office Park \n\n70 Romano Vineyard Way North Kingstown\, RI 02852 United States \n\n\n\n\n\n\n\n\n\n\n\n\nAbout this event\n\n\nEvent lasts 1 hour 30 minutes\n\n\n\n\n\n\nBring plenty of business cards and a positive energetic business attitude. Stop by and meet new contacts and\, as always\, rebuild your associations.\nEvery customer at one time or another has been on a blind date with a business they never met\, businesses only have one shot to make a great first impression. \nWe help customers fall in love with your business through web\, video\, audio and print\, using strategic storytelling and engaging design – wherever your customers come in contact with you.
URL:https://www.rinetworking.com/event/last-friday-coffee-business-networking-14/
LOCATION:Quonset Office Park  70 Romano Vineyard Way North Kingstown\, RI 02852 United States\, Romano Vineyard Way\, North Kingstown\, Rhode Island\, 02852\, United States
CATEGORIES:BUSINESS NETWORKING
ATTACH;FMTTYPE=image/jpeg:https://www.rinetworking.com/wp-content/uploads/2024/04/Last-Friday-Coffee-–-Business-Networking.jpg
GEO:41.6075096;-71.4461421
X-APPLE-STRUCTURED-LOCATION;VALUE=URI;X-ADDRESS=Quonset Office Park  70 Romano Vineyard Way North Kingstown RI 02852 United States Romano Vineyard Way North Kingstown Rhode Island 02852 United States;X-APPLE-RADIUS=500;X-TITLE=Romano Vineyard Way:geo:-71.4461421,41.6075096
END:VEVENT
BEGIN:VEVENT
DTSTART;TZID=America/New_York:20250228T120000
DTEND;TZID=America/New_York:20250228T133000
DTSTAMP:20260419T173604
CREATED:20250112T025225Z
LAST-MODIFIED:20250112T025225Z
UID:10000197-1740744000-1740749400@www.rinetworking.com
SUMMARY:LEADS Lunch – Iggys Boardwalk
DESCRIPTION:12:00 pm–1:30 pm \nFebruary 28\, 2025 \n\n\n\n\n\nIggy’s Boardwalk\n\n885 Oakland Beach Ave\nWarwick\, Rhode Island 02889\nUnited States of America\n(401) 737-2895\nView Location\n\n\nMapIggy’s Boardwalk\n\n\n\nTickets available at the door. \nYou are invited to join the team from Iggy’s Boardwalk for lunch and networking! Come get acquainted with other members of the business community as you share your “60 second commercial” to help others better understand what you do\, what you have to offer\, and who you need to meet. You do not have to bring a lead\, just enjoy a tasty lunch.  This is a great event to easily connect with potential customers. Make sure to bring plenty of business cards! \n  \nRICC members will receive contact information for all attendees that have granted permission. \nOnline registration available until 1:50 pm on Thursday\, February 27th.
URL:https://www.rinetworking.com/event/leads-lunch-iggys-boardwalk/
LOCATION:Iggy’s Boardwalk 885 Oakland Beach Ave Warwick\, Rhode Island 02889 United States of America
CATEGORIES:BUSINESS NETWORKING
ATTACH;FMTTYPE=image/png:https://www.rinetworking.com/wp-content/uploads/2023/08/LEADS-Lunch.png
GEO:41.684741;-71.398237
END:VEVENT
END:VCALENDAR