BEGIN:VCALENDAR
VERSION:2.0
PRODID:-//Rhode Island Business Networking - ECPv6.15.20//NONSGML v1.0//EN
CALSCALE:GREGORIAN
METHOD:PUBLISH
X-WR-CALNAME:Rhode Island Business Networking
X-ORIGINAL-URL:https://www.rinetworking.com
X-WR-CALDESC:Events for Rhode Island Business Networking
REFRESH-INTERVAL;VALUE=DURATION:PT1H
X-Robots-Tag:noindex
X-PUBLISHED-TTL:PT1H
BEGIN:VTIMEZONE
TZID:America/New_York
BEGIN:DAYLIGHT
TZOFFSETFROM:-0500
TZOFFSETTO:-0400
TZNAME:EDT
DTSTART:20230312T070000
END:DAYLIGHT
BEGIN:STANDARD
TZOFFSETFROM:-0400
TZOFFSETTO:-0500
TZNAME:EST
DTSTART:20231105T060000
END:STANDARD
BEGIN:DAYLIGHT
TZOFFSETFROM:-0500
TZOFFSETTO:-0400
TZNAME:EDT
DTSTART:20240310T070000
END:DAYLIGHT
BEGIN:STANDARD
TZOFFSETFROM:-0400
TZOFFSETTO:-0500
TZNAME:EST
DTSTART:20241103T060000
END:STANDARD
BEGIN:DAYLIGHT
TZOFFSETFROM:-0500
TZOFFSETTO:-0400
TZNAME:EDT
DTSTART:20250309T070000
END:DAYLIGHT
BEGIN:STANDARD
TZOFFSETFROM:-0400
TZOFFSETTO:-0500
TZNAME:EST
DTSTART:20251102T060000
END:STANDARD
END:VTIMEZONE
BEGIN:VEVENT
DTSTART;TZID=America/New_York:20240118T190000
DTEND;TZID=America/New_York:20240119T000000
DTSTAMP:20260424T112454
CREATED:20231228T122354Z
LAST-MODIFIED:20231228T122354Z
UID:10000047-1705604400-1705622400@www.rinetworking.com
SUMMARY:Game Night Extravaganza: Jackbox\, Fun\, and Bar Afterparty
DESCRIPTION:Get ready for an epic evening of gaming and socializing. This is a 21 and over event! Join us at the state-of-the-art event room at the “Good Working” North Smithfield’s premier coworking space. \nEvent Highlights: \n– Jackbox* Game Night: Immerse yourself in the world of Jackbox games and meet other fellow gamers. Test your wits\, unleash your creativity\, and enjoy a night of hilarious competition. \n– Complimentary Refreshments: “Good Working” offers a selection of complimentary beverages\, including water\, soda\, and coffee\, to keep you refreshed throughout the event. \n– Bar Afterparty: But the fun doesn’t end there! After the games\, we’ll head to the local bar for drinks and more gaming excitement. Sip on your favorite beverages and continue the gaming festivities into the night. \nThis 21+ event promises an unforgettable night of laughter\, gaming\, and great company. Grab your friends\, unlock your competitive spirit\, and let’s make lasting memories together! \nStay tuned for updates and ticket information. We look forward to seeing you there! \n*Jackbox Games is a series of party video games developed by Jackbox Games\, Inc. They are designed for multiplayer fun\, especially in social settings like parties\, gatherings\, or game nights. What sets Jackbox Games apart is that they are played using smartphones\, tablets\, or computers as controllers\, making it accessible and interactive for a wide range of players.
URL:https://www.rinetworking.com/event/game-night-extravaganza-jackbox-fun-and-bar-afterparty/
LOCATION:Good Working coworking 585 Smithfield Road North Smithfield\, RI 02896 United States
CATEGORIES:SOCIAL EVENTS
ATTACH;FMTTYPE=image/png:https://www.rinetworking.com/wp-content/uploads/2023/12/Jackbox-game-TV-optimized-Kamil-Sarji.png
END:VEVENT
END:VCALENDAR